BEGIN:VCALENDAR
VERSION:2.0
PRODID:-//Death Magnetic - ECPv5.10.1//NONSGML v1.0//EN
CALSCALE:GREGORIAN
METHOD:PUBLISH
X-WR-CALNAME:Death Magnetic
X-ORIGINAL-URL:https://deathmagnetic.pl
X-WR-CALDESC:Events for Death Magnetic
BEGIN:VTIMEZONE
TZID:Europe/Warsaw
BEGIN:DAYLIGHT
TZOFFSETFROM:+0100
TZOFFSETTO:+0200
TZNAME:CEST
DTSTART:20150329T010000
END:DAYLIGHT
BEGIN:STANDARD
TZOFFSETFROM:+0200
TZOFFSETTO:+0100
TZNAME:CET
DTSTART:20151025T010000
END:STANDARD
END:VTIMEZONE
BEGIN:VEVENT
DTSTART;TZID=Europe/Warsaw:20151023T170000
DTEND;TZID=Europe/Warsaw:20151024T233000
DTSTAMP:20260420T213811
CREATED:20151020T170518Z
LAST-MODIFIED:20151020T170518Z
UID:93563-1445619600-1445729400@deathmagnetic.pl
SUMMARY:Żyrock 2015
DESCRIPTION:Żyrock to inicjatywa zespołu Immortal Dreams z Żyrardowa (https://www.facebook.com/ImmortalDreams). Immortal Dreams chciał zorganizować wydarzenie muzyczne\, które miało dobrze kojarzyć się z regionem miasta Żyrardów. Honorowy patronat na Żyrockiem 2015 objął Wojewoda Mazowiecki oraz Prezydent Miasta Żyrardowa. Organizatorzy: zespół Immortal Dreams\, Urząd Miasta Żyrardów\, Centrum Kultury w Żyrardowie. \nPiątek 23.10.2015\n1. Orange Tree (https://www.facebook.com/orangetreetheband)\n2. Heart Attack (https://www.facebook.com/HeartAttackOnline)\n3. Through The Noise (https://www.facebook.com/ThroughTheNoiseSweden)\n4. P.A.G.E. (https://www.facebook.com/PAGE.band.art)\n5. Cochise (https://www.facebook.com/Cochise-152191101488697) \nSobota 24.10.2015\n1. Swear the Empress (https://www.facebook.com/SwearTheEmpress)\n2. Bacteryazz (www.facebook.com/bacteryazz)\n3. Fragile (https://www.facebook.com/fragileofficial)\n4. Gorgonzolla (https://www.facebook.com/Gorgonzolla)\n5. Messa (https://www.facebook.com/messapoland)\n6. Krusher (https://www.facebook.com/KrusherPL)\n7. Weesp (https://www.facebook.com/weespband) \nSZYKUJE SIĘ MEGA WEEKEND W CENTRUM KULTURY W ŻYRARDOWIE DWA dni rockowych i metalowych brzmień! W piątek (23.10) i w sobotę (24.10) wystąpią zespoły z Polski\, a także z zagranicy! \nUWAGA! UWAGA!\nWSTĘP na festiwal jest DARMOWYl!! \nStrona festiwalu: www.zyrock.pl
URL:https://deathmagnetic.pl/wydarzenie/zyrock-2015/
LOCATION:Centrum Kultury w Żyrardowie\, Plac Jana Pawła II nr 3\, Żyrardów\, 96-300\, Polska
CATEGORIES:Festiwale,Polskie
ATTACH;FMTTYPE=image/jpeg:https://deathmagnetic.pl/wp-content/uploads/2015/10/Żyrock.jpg
GEO:52.056874;20.438761
X-APPLE-STRUCTURED-LOCATION;VALUE=URI;X-ADDRESS=Centrum Kultury w Żyrardowie Plac Jana Pawła II nr 3 Żyrardów 96-300 Polska;X-APPLE-RADIUS=500;X-TITLE=Plac Jana Pawła II nr 3:geo:20.438761,52.056874
END:VEVENT
END:VCALENDAR