BEGIN:VCALENDAR
VERSION:2.0
PRODID:-//Death Magnetic - ECPv5.10.1//NONSGML v1.0//EN
CALSCALE:GREGORIAN
METHOD:PUBLISH
X-WR-CALNAME:Death Magnetic
X-ORIGINAL-URL:https://deathmagnetic.pl
X-WR-CALDESC:Events for Death Magnetic
BEGIN:VTIMEZONE
TZID:Europe/Warsaw
BEGIN:DAYLIGHT
TZOFFSETFROM:+0100
TZOFFSETTO:+0200
TZNAME:CEST
DTSTART:20170326T010000
END:DAYLIGHT
BEGIN:STANDARD
TZOFFSETFROM:+0200
TZOFFSETTO:+0100
TZNAME:CET
DTSTART:20171029T010000
END:STANDARD
END:VTIMEZONE
BEGIN:VEVENT
DTSTART;TZID=Europe/Warsaw:20170305T180000
DTEND;TZID=Europe/Warsaw:20170305T230000
DTSTAMP:20260420T221935
CREATED:20170101T233923Z
LAST-MODIFIED:20170101T233923Z
UID:110012-1488736800-1488754800@deathmagnetic.pl
SUMMARY:Zenek + Venflon
DESCRIPTION:Bilety:\n20zł w przedsprzedaży (poinformujemy na tym wydarzeniu gdy będą dostępne w klubie)\n21zł przedsprzedaż on-line (już dostępne!)\nhttps://nuplays.pl/artist/57449/ZENEK\n30zł w dniu koncertu
URL:https://deathmagnetic.pl/wydarzenie/zenek-venflon-2/
LOCATION:Carpe Diem\, Rybna 5\, Tarnów\, mazowieckie\, Polska
CATEGORIES:Koncerty,Polskie
ATTACH;FMTTYPE=image/jpeg:https://deathmagnetic.pl/wp-content/uploads/2017/01/venflon-zenek.jpg
GEO:51.7908599;21.4398771
X-APPLE-STRUCTURED-LOCATION;VALUE=URI;X-ADDRESS=Carpe Diem Rybna 5 Tarnów mazowieckie Polska;X-APPLE-RADIUS=500;X-TITLE=Rybna 5:geo:21.4398771,51.7908599
END:VEVENT
END:VCALENDAR