BEGIN:VCALENDAR
VERSION:2.0
PRODID:-//Death Magnetic - ECPv5.10.1//NONSGML v1.0//EN
CALSCALE:GREGORIAN
METHOD:PUBLISH
X-WR-CALNAME:Death Magnetic
X-ORIGINAL-URL:https://deathmagnetic.pl
X-WR-CALDESC:Events for Death Magnetic
BEGIN:VTIMEZONE
TZID:Europe/Warsaw
BEGIN:DAYLIGHT
TZOFFSETFROM:+0100
TZOFFSETTO:+0200
TZNAME:CEST
DTSTART:20170326T010000
END:DAYLIGHT
BEGIN:STANDARD
TZOFFSETFROM:+0200
TZOFFSETTO:+0100
TZNAME:CET
DTSTART:20171029T010000
END:STANDARD
END:VTIMEZONE
BEGIN:VEVENT
DTSTART;TZID=Europe/Warsaw:20170910T200000
DTEND;TZID=Europe/Warsaw:20170910T200000
DTSTAMP:20260419T173841
CREATED:20170818T102738Z
LAST-MODIFIED:20170818T102738Z
UID:149233-1505073600-1505073600@deathmagnetic.pl
SUMMARY:Zenek
DESCRIPTION:Bilety w cenie 20zł dostępne na koncercie (nie ma przedsprzedaży!!!)
URL:https://deathmagnetic.pl/wydarzenie/zenek-7/
LOCATION:Andrzeju\, nie denerwuj się\, Piotrkowska 43\, Łódź\, mazowieckie\, Polska
CATEGORIES:Koncerty,Polskie
ATTACH;FMTTYPE=image/jpeg:https://deathmagnetic.pl/wp-content/uploads/2017/08/plakat-trudno.jpg
GEO:51.3753679;20.277613
X-APPLE-STRUCTURED-LOCATION;VALUE=URI;X-ADDRESS=Andrzeju nie denerwuj się Piotrkowska 43 Łódź mazowieckie Polska;X-APPLE-RADIUS=500;X-TITLE=Piotrkowska 43:geo:20.277613,51.3753679
END:VEVENT
END:VCALENDAR