BEGIN:VCALENDAR
VERSION:2.0
PRODID:-//Death Magnetic - ECPv5.10.1//NONSGML v1.0//EN
CALSCALE:GREGORIAN
METHOD:PUBLISH
X-WR-CALNAME:Death Magnetic
X-ORIGINAL-URL:https://deathmagnetic.pl
X-WR-CALDESC:Events for Death Magnetic
BEGIN:VTIMEZONE
TZID:Europe/Warsaw
BEGIN:DAYLIGHT
TZOFFSETFROM:+0100
TZOFFSETTO:+0200
TZNAME:CEST
DTSTART:20170326T010000
END:DAYLIGHT
BEGIN:STANDARD
TZOFFSETFROM:+0200
TZOFFSETTO:+0100
TZNAME:CET
DTSTART:20171029T010000
END:STANDARD
END:VTIMEZONE
BEGIN:VEVENT
DTSTART;TZID=Europe/Warsaw:20170901T200000
DTEND;TZID=Europe/Warsaw:20170901T200000
DTSTAMP:20260421T085800
CREATED:20170818T101152Z
LAST-MODIFIED:20170818T101338Z
UID:149226-1504296000-1504296000@deathmagnetic.pl
SUMMARY:ZENEK
DESCRIPTION:Bilety w cenie 20zł dostępne na koncercie (nie ma przedsprzedaży!!!)
URL:https://deathmagnetic.pl/wydarzenie/zenek-3/
LOCATION:Klub Studencki Przepraszam\, Rynek 10\, Tarnów\, 33-100\, Polska
CATEGORIES:Koncerty,Polskie
ATTACH;FMTTYPE=image/jpeg:https://deathmagnetic.pl/wp-content/uploads/2017/08/plakat-trudno.jpg
GEO:50.012155;20.9887799
X-APPLE-STRUCTURED-LOCATION;VALUE=URI;X-ADDRESS=Klub Studencki Przepraszam Rynek 10 Tarnów 33-100 Polska;X-APPLE-RADIUS=500;X-TITLE=Rynek 10:geo:20.9887799,50.012155
END:VEVENT
END:VCALENDAR