BEGIN:VCALENDAR
VERSION:2.0
PRODID:-//Death Magnetic - ECPv5.10.1//NONSGML v1.0//EN
CALSCALE:GREGORIAN
METHOD:PUBLISH
X-WR-CALNAME:Death Magnetic
X-ORIGINAL-URL:https://deathmagnetic.pl
X-WR-CALDESC:Events for Death Magnetic
BEGIN:VTIMEZONE
TZID:Europe/Warsaw
BEGIN:DAYLIGHT
TZOFFSETFROM:+0100
TZOFFSETTO:+0200
TZNAME:CEST
DTSTART:20170326T010000
END:DAYLIGHT
BEGIN:STANDARD
TZOFFSETFROM:+0200
TZOFFSETTO:+0100
TZNAME:CET
DTSTART:20171029T010000
END:STANDARD
END:VTIMEZONE
BEGIN:VEVENT
DTSTART;TZID=Europe/Warsaw:20170425T200000
DTEND;TZID=Europe/Warsaw:20170425T230000
DTSTAMP:20260421T080814
CREATED:20161209T232332Z
LAST-MODIFIED:20161209T232332Z
UID:109483-1493150400-1493161200@deathmagnetic.pl
SUMMARY:Zeal & Ardor + Dopelord + Dreadlords
DESCRIPTION:
URL:https://deathmagnetic.pl/wydarzenie/zeal-ardor-dopelord-dreadlords/
LOCATION:Hydrozagadka\, 11 listopada 22\, Warszawa\, Polska
CATEGORIES:Koncerty,zagraniczne
ATTACH;FMTTYPE=image/jpeg:https://deathmagnetic.pl/wp-content/uploads/2016/12/14639681_1812988402277491_5959853766805481066_n.jpg
GEO:52.259164;21.0363389
X-APPLE-STRUCTURED-LOCATION;VALUE=URI;X-ADDRESS=Hydrozagadka 11 listopada 22 Warszawa Polska;X-APPLE-RADIUS=500;X-TITLE=11 listopada 22:geo:21.0363389,52.259164
END:VEVENT
END:VCALENDAR