BEGIN:VCALENDAR
VERSION:2.0
PRODID:-//Death Magnetic - ECPv5.10.1//NONSGML v1.0//EN
CALSCALE:GREGORIAN
METHOD:PUBLISH
X-WR-CALNAME:Death Magnetic
X-ORIGINAL-URL:https://deathmagnetic.pl
X-WR-CALDESC:Events for Death Magnetic
BEGIN:VTIMEZONE
TZID:Europe/Warsaw
BEGIN:DAYLIGHT
TZOFFSETFROM:+0100
TZOFFSETTO:+0200
TZNAME:CEST
DTSTART:20180325T010000
END:DAYLIGHT
BEGIN:STANDARD
TZOFFSETFROM:+0200
TZOFFSETTO:+0100
TZNAME:CET
DTSTART:20181028T010000
END:STANDARD
END:VTIMEZONE
BEGIN:VEVENT
DTSTART;VALUE=DATE:20180603
DTEND;VALUE=DATE:20180604
DTSTAMP:20260421T041549
CREATED:20180309T101302Z
LAST-MODIFIED:20180309T101302Z
UID:155641-1527984000-1528070399@deathmagnetic.pl
SUMMARY:Yes
DESCRIPTION:Zagrają:\nYES feat. Jon Anderson\, Trevor Rabin\, Rick Wakeman (Wielka Brytania) rock progresywny \nKiedy: 3 czerwca (niedziela) 2018\nGdzie: Warszawa @ Park Sowińskiego\, ul. Elekcyjna 17\nBilety: 229 zł – przedsprzedaż\, 250 zł – w dniu koncertu\nOrganizator: Knock Out Productions \nBilety na koncert dostępne od poniedziałku 12 marca na:\nhttps://sklep.knockoutprod.net/ (druki kolekcjonerskie)  \nZaprasza\nKnock Out Productions\nhttp://www.knockoutprod.net/\nhttps://www.facebook.com/productions.knock.out\nhttps://www.instagram.com/knockoutprod
URL:https://deathmagnetic.pl/wydarzenie/yes/
LOCATION:Amfiteatr Park Sowińskiego\, Elekcyjna 17\, Warszawa\,  01-128\, Polska
CATEGORIES:Koncerty,zagraniczne
ATTACH;FMTTYPE=image/jpeg:https://deathmagnetic.pl/wp-content/uploads/2018/03/yes.jpg
ORGANIZER;CN="KnockOut%20Productions":MAILTO:info@knockoutprod.net
GEO:52.1266398;20.9778415
X-APPLE-STRUCTURED-LOCATION;VALUE=URI;X-ADDRESS=Amfiteatr Park Sowińskiego Elekcyjna 17 Warszawa  01-128 Polska;X-APPLE-RADIUS=500;X-TITLE=Elekcyjna 17:geo:20.9778415,52.1266398
END:VEVENT
END:VCALENDAR