BEGIN:VCALENDAR
VERSION:2.0
PRODID:-//Death Magnetic - ECPv5.10.1//NONSGML v1.0//EN
CALSCALE:GREGORIAN
METHOD:PUBLISH
X-WR-CALNAME:Death Magnetic
X-ORIGINAL-URL:https://deathmagnetic.pl
X-WR-CALDESC:Events for Death Magnetic
BEGIN:VTIMEZONE
TZID:Europe/Warsaw
BEGIN:DAYLIGHT
TZOFFSETFROM:+0100
TZOFFSETTO:+0200
TZNAME:CEST
DTSTART:20170326T010000
END:DAYLIGHT
BEGIN:STANDARD
TZOFFSETFROM:+0200
TZOFFSETTO:+0100
TZNAME:CET
DTSTART:20171029T010000
END:STANDARD
END:VTIMEZONE
BEGIN:VEVENT
DTSTART;TZID=Europe/Warsaw:20171124T190000
DTEND;TZID=Europe/Warsaw:20171124T233000
DTSTAMP:20260420T205614
CREATED:20171122T130438Z
LAST-MODIFIED:20171122T130438Z
UID:152771-1511550000-1511566200@deathmagnetic.pl
SUMMARY:Wunder WAVE 86: Bishops Green + Podwórkowi Chuligani + Grade 2
DESCRIPTION:Bilety:\n60zł – przedsprzedaż\n70zł – w dniu koncertu \nDo nabycia tu: https://goingapp.pl/evt/1117832/wunder-wave-86-bishops-green-podworkowi-chuligani-grade-2?utm_source=facebook&utm_medium=event&utm_campaign=20171124_wunder_wave_86_bishops_green_podworkowi_chuligani_grade_2_lodz
URL:https://deathmagnetic.pl/wydarzenie/wunder-wave-86-bishops-green-podworkowi-chuligani-grade-2/
LOCATION:Magnetofon\, Zgierska 26A\, Łódź\, mazowieckie\, Polska
CATEGORIES:Koncerty
ATTACH;FMTTYPE=image/jpeg:https://deathmagnetic.pl/wp-content/uploads/2017/11/21557899_1432467786818849_2751294784179007458_n.jpg
GEO:51.764732;19.441154
X-APPLE-STRUCTURED-LOCATION;VALUE=URI;X-ADDRESS=Magnetofon Zgierska 26A Łódź mazowieckie Polska;X-APPLE-RADIUS=500;X-TITLE=Zgierska 26A:geo:19.441154,51.764732
END:VEVENT
END:VCALENDAR