BEGIN:VCALENDAR
VERSION:2.0
PRODID:-//Death Magnetic - ECPv5.10.1//NONSGML v1.0//EN
CALSCALE:GREGORIAN
METHOD:PUBLISH
X-WR-CALNAME:Death Magnetic
X-ORIGINAL-URL:https://deathmagnetic.pl
X-WR-CALDESC:Events for Death Magnetic
BEGIN:VTIMEZONE
TZID:Europe/Warsaw
BEGIN:DAYLIGHT
TZOFFSETFROM:+0100
TZOFFSETTO:+0200
TZNAME:CEST
DTSTART:20150329T010000
END:DAYLIGHT
BEGIN:STANDARD
TZOFFSETFROM:+0200
TZOFFSETTO:+0100
TZNAME:CET
DTSTART:20151025T010000
END:STANDARD
END:VTIMEZONE
BEGIN:VEVENT
DTSTART;TZID=Europe/Warsaw:20151031T190000
DTEND;TZID=Europe/Warsaw:20151031T190000
DTSTAMP:20260421T070255
CREATED:20151023T105851Z
LAST-MODIFIED:20151023T105851Z
UID:93636-1446318000-1446318000@deathmagnetic.pl
SUMMARY:Winobranie - Stoner & Doom Fest
DESCRIPTION:Zagrają:\nJ. D. Overdrive (southern metal\, Katowice) \nGallileous (doom metal\, Wodzisław Śląski) \nSun Dance (stoner/southern metal\, Kraków) \nDevil In The Name (stoner metal\, Katowice) \nCena biletów: 12 zł \nBilety dostępne w: Klub Muzyczny Szuflada \nStart: 19:00
URL:https://deathmagnetic.pl/wydarzenie/winobranie-stoner-doom-fest/
LOCATION:Klub Muzyczny Szuflada\, os. Dąbrówki 1b\, Katowice\, 44-300\, Polska
CATEGORIES:Koncerty,Polskie
ATTACH;FMTTYPE=image/jpeg:https://deathmagnetic.pl/wp-content/uploads/2015/10/winobranie.jpg
GEO:50.2617318;19.0094904
X-APPLE-STRUCTURED-LOCATION;VALUE=URI;X-ADDRESS=Klub Muzyczny Szuflada os. Dąbrówki 1b Katowice 44-300 Polska;X-APPLE-RADIUS=500;X-TITLE=os. Dąbrówki 1b:geo:19.0094904,50.2617318
END:VEVENT
END:VCALENDAR