BEGIN:VCALENDAR
VERSION:2.0
PRODID:-//Death Magnetic - ECPv5.10.1//NONSGML v1.0//EN
CALSCALE:GREGORIAN
METHOD:PUBLISH
X-WR-CALNAME:Death Magnetic
X-ORIGINAL-URL:https://deathmagnetic.pl
X-WR-CALDESC:Events for Death Magnetic
BEGIN:VTIMEZONE
TZID:Europe/Warsaw
BEGIN:DAYLIGHT
TZOFFSETFROM:+0100
TZOFFSETTO:+0200
TZNAME:CEST
DTSTART:20150329T010000
END:DAYLIGHT
BEGIN:STANDARD
TZOFFSETFROM:+0200
TZOFFSETTO:+0100
TZNAME:CET
DTSTART:20151025T010000
END:STANDARD
END:VTIMEZONE
BEGIN:VEVENT
DTSTART;TZID=Europe/Warsaw:20150411T190000
DTEND;TZID=Europe/Warsaw:20150411T190000
DTSTAMP:20260421T102152
CREATED:20150305T172340Z
LAST-MODIFIED:20150305T172340Z
UID:75133-1428778800-1428778800@deathmagnetic.pl
SUMMARY:While She Sleeps + Cancer Bats + Hundredth + Oathbreaker
DESCRIPTION:Ceny biletów: \n79zł – przedsprzedaż \n90zł – w dniu koncertu \nBilety dostępne na: \nEventim\, Ticketpro\, eBilet oraz w sklepach sieci Empik\, Media Markt i Saturn. \n  \n 
URL:https://deathmagnetic.pl/wydarzenie/while-she-sleeps-cancer-bats-hundredth-oathbreaker/
LOCATION:Proxima\, ul. Żwirki i Wigury 99\, Warszawa\, Polska
CATEGORIES:Koncerty,zagraniczne
ATTACH;FMTTYPE=image/jpeg:https://deathmagnetic.pl/wp-content/uploads/2015/03/While-She-Sleeps.jpg
ORGANIZER;CN="Go%20Ahead":MAILTO:agencja@go-ahead.pl
GEO:52.212567;20.987187
X-APPLE-STRUCTURED-LOCATION;VALUE=URI;X-ADDRESS=Proxima ul. Żwirki i Wigury 99 Warszawa Polska;X-APPLE-RADIUS=500;X-TITLE=ul. Żwirki i Wigury 99:geo:20.987187,52.212567
END:VEVENT
END:VCALENDAR