BEGIN:VCALENDAR
VERSION:2.0
PRODID:-//Death Magnetic - ECPv5.10.1//NONSGML v1.0//EN
CALSCALE:GREGORIAN
METHOD:PUBLISH
X-WR-CALNAME:Death Magnetic
X-ORIGINAL-URL:https://deathmagnetic.pl
X-WR-CALDESC:Events for Death Magnetic
BEGIN:VTIMEZONE
TZID:Europe/Warsaw
BEGIN:DAYLIGHT
TZOFFSETFROM:+0100
TZOFFSETTO:+0200
TZNAME:CEST
DTSTART:20180325T010000
END:DAYLIGHT
BEGIN:STANDARD
TZOFFSETFROM:+0200
TZOFFSETTO:+0100
TZNAME:CET
DTSTART:20181028T010000
END:STANDARD
END:VTIMEZONE
BEGIN:VEVENT
DTSTART;TZID=Europe/Warsaw:20180422T162000
DTEND;TZID=Europe/Warsaw:20180422T233000
DTSTAMP:20260421T063610
CREATED:20180226T184805Z
LAST-MODIFIED:20180226T201244Z
UID:155484-1524414000-1524439800@deathmagnetic.pl
SUMMARY:Weedstock: Temple 420\, czyli ostateczna impreza stonerowa
DESCRIPTION:Soulstone Gathering & HappyDying Productions w’eed like to present: \nWeedstock: Temple 420\, czyli ostateczna impreza stonerowa. 4W\, 2 dni po 20.04\, 0 kompromisów. Drugiej takiej już nie będzie. \nPass the bong\, go green and join the Weedstock. \n1W: Weedeater [USA]\nKontrowersyjni stoner metalowcy z Północnej Karoliny wyruszają w trasę z okazji jubileuszu wydania albumu 'God Luck and Good Speed’. Materiał z tej jednej z najbardziej rozpoznawalnych płyt grupy zostanie odegrany w całości podczas Weedstocku. Będzie to też ich jedyny koncert w Polsce podczas europejskiej części tournée. \n \n2W: Weedpecker [PL]\nDzięćzioł już od jakiegoś czasu puka do bram ekstraklasy szeroko rozumianego rocka psychodelicznego / stoner rocka. Po wydaniu ostatniej płyty ‘III’ z hitami pokroju ‘Liquid Sky’ – znalazł się w jej czołówce. Jeden z najlepszych zespołów i muzyków na polskiej ziemi w klimacie W. \nhttps://www.youtube.com/watch?v=hqV9sWNutFE&t=808s \n3W: Weedruid [DE]\nBerlin Psychedelic Doomers dołączyli jako 3W w składzie. Coś dla fanów Belzebonga i Bongzilli. Jak sprytnie określić ich muzykę? Internety dostarczają: 'This s*** is heavier than my entire obese family\, soaking wet and after thanksgiving dinner.’ \n \n4W: Weedcraft [PL]\nNajmłodsze W składzie\, które w oparach zielonego dymu rośnie nam na kolejny topowy skład z gatunku stoner / doom / psychedelic / space rock. Koniecznie posłuchajcie ich debiutanckiego LP 'Satan’s Weedcraft Heavy Spliffs’. \n \nBilety: http://bit.ly/2CyUDPr \nI PULA 70 zł\nII PULA 75 zł\nIII PULA 80 zł
URL:https://deathmagnetic.pl/wydarzenie/weedstock-temple-420-czyli-ostateczna-impreza-stonerowa/
LOCATION:MegaClub\,  ul. Żelazna 15\, Katowice\, Polska
CATEGORIES:Koncerty,zagraniczne
ATTACH;FMTTYPE=image/jpeg:https://deathmagnetic.pl/wp-content/uploads/2018/02/weedeater.jpg
ORGANIZER;CN="Soulstone%20Gathering":MAILTO:soulstonegathering@gmail.com
GEO:50.2641959;19.0057694
X-APPLE-STRUCTURED-LOCATION;VALUE=URI;X-ADDRESS=MegaClub  ul. Żelazna 15 Katowice Polska;X-APPLE-RADIUS=500;X-TITLE=ul. Żelazna 15:geo:19.0057694,50.2641959
END:VEVENT
END:VCALENDAR