BEGIN:VCALENDAR
VERSION:2.0
PRODID:-//Death Magnetic - ECPv5.10.1//NONSGML v1.0//EN
CALSCALE:GREGORIAN
METHOD:PUBLISH
X-WR-CALNAME:Death Magnetic
X-ORIGINAL-URL:https://deathmagnetic.pl
X-WR-CALDESC:Events for Death Magnetic
BEGIN:VTIMEZONE
TZID:Europe/Warsaw
BEGIN:DAYLIGHT
TZOFFSETFROM:+0100
TZOFFSETTO:+0200
TZNAME:CEST
DTSTART:20180325T010000
END:DAYLIGHT
BEGIN:STANDARD
TZOFFSETFROM:+0200
TZOFFSETTO:+0100
TZNAME:CET
DTSTART:20181028T010000
END:STANDARD
END:VTIMEZONE
BEGIN:VEVENT
DTSTART;TZID=Europe/Warsaw:20180120T190000
DTEND;TZID=Europe/Warsaw:20180120T230000
DTSTAMP:20260420T222113
CREATED:20171223T175820Z
LAST-MODIFIED:20171223T175820Z
UID:154060-1516474800-1516489200@deathmagnetic.pl
SUMMARY:Weedpecker + Red Scalp
DESCRIPTION:Bilety:\n25 PLN – przedsprzedaż\n35 PLN – w dniu koncertu \nWarszawski Weedpecker\, który właśnie wydaje swój trzeci album zatytułowany tradycyjnie już „III” (Stickman Records)\, to nieprawdopodobna mieszanka space rocka\, stonera i… grunge. Ten koncert to nie tylko premierowy materiał\, ale też nowy skład zespołu. Jak sami twierdzą – muzyka ta słuchana z płyty nigdy nie dotrze tak głęboko\, jak podczas odbioru live. \nJako gość specjalny zagrają panowie z Red Scalp\, którzy także promują najnowsze wydawnictwo – „Lost Ghosts”. Klimat zespoły trochę ewoluował\, stał się bardziej psychodeliczny\, a zarazem spójny. Jest to swego rodzaju koncept album. \nInformacje w związku z przedsprzedażą wejściówek pojawią się już wkrótce!
URL:https://deathmagnetic.pl/wydarzenie/weedpecker-red-scalp-3/
LOCATION:Klub u Bazyla\, ul. Norwida 18A\, Poznań\, wielkopolskie\, 60-867\, Polska
CATEGORIES:Koncerty,Polskie
ATTACH;FMTTYPE=image/jpeg:https://deathmagnetic.pl/wp-content/uploads/2017/12/weedpecker_tour-2.jpg
ORGANIZER;CN="Red%20Smoke%20Booking":MAILTO:redsmokebooking@gmail.com
GEO:52.41666;16.9111489
X-APPLE-STRUCTURED-LOCATION;VALUE=URI;X-ADDRESS=Klub u Bazyla ul. Norwida 18A Poznań wielkopolskie 60-867 Polska;X-APPLE-RADIUS=500;X-TITLE=ul. Norwida 18A:geo:16.9111489,52.41666
END:VEVENT
END:VCALENDAR