BEGIN:VCALENDAR
VERSION:2.0
PRODID:-//Death Magnetic - ECPv5.10.1//NONSGML v1.0//EN
CALSCALE:GREGORIAN
METHOD:PUBLISH
X-WR-CALNAME:Death Magnetic
X-ORIGINAL-URL:https://deathmagnetic.pl
X-WR-CALDESC:Events for Death Magnetic
BEGIN:VTIMEZONE
TZID:Europe/Warsaw
BEGIN:DAYLIGHT
TZOFFSETFROM:+0100
TZOFFSETTO:+0200
TZNAME:CEST
DTSTART:20150329T010000
END:DAYLIGHT
BEGIN:STANDARD
TZOFFSETFROM:+0200
TZOFFSETTO:+0100
TZNAME:CET
DTSTART:20151025T010000
END:STANDARD
END:VTIMEZONE
BEGIN:VEVENT
DTSTART;TZID=Europe/Warsaw:20150718T200000
DTEND;TZID=Europe/Warsaw:20150718T200000
DTSTAMP:20260421T061113
CREATED:20150705T153900Z
LAST-MODIFIED:20150705T153900Z
UID:87627-1437249600-1437249600@deathmagnetic.pl
SUMMARY:Wall Of Death: Heat Affected Zone + Pelgathorium
DESCRIPTION:Cena: 5 zł \nStart: 19:00
URL:https://deathmagnetic.pl/wydarzenie/wall-of-death-heat-affected-zone-pelgathorium/
LOCATION:Pub Czerwona Cegła\, Dworcowa 50\, Gliwice\, Polska
CATEGORIES:Koncerty,Polskie
ATTACH;FMTTYPE=image/jpeg:https://deathmagnetic.pl/wp-content/uploads/2015/07/wall-of-death-heat-affected-zone-pelgathorium.jpg
GEO:50.2952262;18.6739641
X-APPLE-STRUCTURED-LOCATION;VALUE=URI;X-ADDRESS=Pub Czerwona Cegła Dworcowa 50 Gliwice Polska;X-APPLE-RADIUS=500;X-TITLE=Dworcowa 50:geo:18.6739641,50.2952262
END:VEVENT
END:VCALENDAR