BEGIN:VCALENDAR
VERSION:2.0
PRODID:-//Death Magnetic - ECPv5.10.1//NONSGML v1.0//EN
CALSCALE:GREGORIAN
METHOD:PUBLISH
X-WR-CALNAME:Death Magnetic
X-ORIGINAL-URL:https://deathmagnetic.pl
X-WR-CALDESC:Events for Death Magnetic
BEGIN:VTIMEZONE
TZID:Europe/Warsaw
BEGIN:DAYLIGHT
TZOFFSETFROM:+0100
TZOFFSETTO:+0200
TZNAME:CEST
DTSTART:20170326T010000
END:DAYLIGHT
BEGIN:STANDARD
TZOFFSETFROM:+0200
TZOFFSETTO:+0100
TZNAME:CET
DTSTART:20171029T010000
END:STANDARD
END:VTIMEZONE
BEGIN:VEVENT
DTSTART;TZID=Europe/Warsaw:20171012T190000
DTEND;TZID=Europe/Warsaw:20171012T230000
DTSTAMP:20260420T135144
CREATED:20170929T182750Z
LAST-MODIFIED:20170929T182750Z
UID:151139-1507834800-1507849200@deathmagnetic.pl
SUMMARY:Voidhanger / Hypnos / Dira Mortis / Deathreat
DESCRIPTION:Wystąpią: \n⛧ VOIDHANGER – black/thrash (Silesia)\nhttps://www.facebook.com/voidhangerofficial/\nhttps://paganrecords.bandcamp.com/album/working-class-misanthropy \n⛧ HYPNOS – death metal (Czechy)\nhttps://www.facebook.com/HypnosCZ/\nhypnos-cz.com \n⛧ DIRA MORTIS – death metal (Polska)\nhttps://www.facebook.com/diramortis/\nhttps://defenserecords.bandcamp.com/album/dira-mortis-psalms-of-morbid-existence \n⛧ DEATHREAT – swedish death/hardcore (Kraków)\nhttps://www.facebook.com/DeathreatPL/\nhttps://www.youtube.com/watch?v=E_9kpa1wL64 \nBilety: 30/40zł – do kupienia pod tym linkiem:\nhttp://aidunlookedfor.8merch.com/services/store
URL:https://deathmagnetic.pl/wydarzenie/voidhanger-hypnos-dira-mortis-deathreat/
LOCATION:Zet Pe Te\, Dolnych Młynów 10\, Kraków \, małopolskie \, Polska
CATEGORIES:Koncerty,Polskie
ATTACH;FMTTYPE=image/jpeg:https://deathmagnetic.pl/wp-content/uploads/2017/09/21623931_1742082709160031_1525034098_n.jpg
ORGANIZER;CN="Southern%20Discomfort":MAILTO:sdcracow@gmail.com
GEO:50.064495;19.9273919
X-APPLE-STRUCTURED-LOCATION;VALUE=URI;X-ADDRESS=Zet Pe Te Dolnych Młynów 10 Kraków  małopolskie  Polska;X-APPLE-RADIUS=500;X-TITLE=Dolnych Młynów 10:geo:19.9273919,50.064495
END:VEVENT
END:VCALENDAR