BEGIN:VCALENDAR
VERSION:2.0
PRODID:-//Death Magnetic - ECPv5.10.1//NONSGML v1.0//EN
CALSCALE:GREGORIAN
METHOD:PUBLISH
X-WR-CALNAME:Death Magnetic
X-ORIGINAL-URL:https://deathmagnetic.pl
X-WR-CALDESC:Events for Death Magnetic
BEGIN:VTIMEZONE
TZID:Europe/Warsaw
BEGIN:DAYLIGHT
TZOFFSETFROM:+0100
TZOFFSETTO:+0200
TZNAME:CEST
DTSTART:20160327T010000
END:DAYLIGHT
BEGIN:STANDARD
TZOFFSETFROM:+0200
TZOFFSETTO:+0100
TZNAME:CET
DTSTART:20161030T010000
END:STANDARD
END:VTIMEZONE
BEGIN:VEVENT
DTSTART;TZID=Europe/Warsaw:20160923T190000
DTEND;TZID=Europe/Warsaw:20160924T050000
DTSTAMP:20260421T044422
CREATED:20160725T111918Z
LAST-MODIFIED:20160914T063526Z
UID:103917-1474657200-1474693200@deathmagnetic.pl
SUMMARY:Virgin Snatch + Steel Habit + Dahaca [ODWOŁANY]
DESCRIPTION:You’ll Never Rock Alone! Grill / koncerty / rockoteka: \nVirgin Snatch – thrash/death metal \nSteel Habit – metal \nDahaca – pure death groove metal \nBilety w cenie 20 zł dostępne na miejscu przed koncertem. Wkrótce planowana sprzedaż internetowa. \n 
URL:https://deathmagnetic.pl/wydarzenie/virgin-snatch-steel-habit-dahaca/
LOCATION:Rock Stage by ClubRock\, Kolejowa 8\, Warszawa\, mazowieckie\, 01-210\, Polska
CATEGORIES:Koncerty,patronaty,Polskie
ATTACH;FMTTYPE=image/jpeg:https://deathmagnetic.pl/wp-content/uploads/2016/07/13838046_10202116850600747_762383165_o.jpg
GEO:52.226214;20.9829629
X-APPLE-STRUCTURED-LOCATION;VALUE=URI;X-ADDRESS=Rock Stage by ClubRock Kolejowa 8 Warszawa mazowieckie 01-210 Polska;X-APPLE-RADIUS=500;X-TITLE=Kolejowa 8:geo:20.9829629,52.226214
END:VEVENT
END:VCALENDAR