BEGIN:VCALENDAR
VERSION:2.0
PRODID:-//Death Magnetic - ECPv5.10.1//NONSGML v1.0//EN
CALSCALE:GREGORIAN
METHOD:PUBLISH
X-WR-CALNAME:Death Magnetic
X-ORIGINAL-URL:https://deathmagnetic.pl
X-WR-CALDESC:Events for Death Magnetic
BEGIN:VTIMEZONE
TZID:Europe/Warsaw
BEGIN:DAYLIGHT
TZOFFSETFROM:+0100
TZOFFSETTO:+0200
TZNAME:CEST
DTSTART:20150329T010000
END:DAYLIGHT
BEGIN:STANDARD
TZOFFSETFROM:+0200
TZOFFSETTO:+0100
TZNAME:CET
DTSTART:20151025T010000
END:STANDARD
END:VTIMEZONE
BEGIN:VEVENT
DTSTART;TZID=Europe/Warsaw:20151011T190000
DTEND;TZID=Europe/Warsaw:20151011T230000
DTSTAMP:20260421T035804
CREATED:20150505T183735Z
LAST-MODIFIED:20150505T183735Z
UID:82846-1444590000-1444604400@deathmagnetic.pl
SUMMARY:Venom + Vader + Divine Chaos
DESCRIPTION:Ceny biletów: \n79zł /89zł / 99zł \nDostępne na: \nPW Events\, Eventim\, ebilet\, Ticketpro\, Biletomat
URL:https://deathmagnetic.pl/wydarzenie/venom-vader-divine-chaos-3/
LOCATION:Alibi Club\, ul. Grunwaldzka 67\, Wrocław\, Polska
CATEGORIES:Koncerty,zagraniczne
ATTACH;FMTTYPE=image/png:https://deathmagnetic.pl/wp-content/uploads/2015/05/venom-vader.png
GEO:51.1145141;17.0665483
X-APPLE-STRUCTURED-LOCATION;VALUE=URI;X-ADDRESS=Alibi Club ul. Grunwaldzka 67 Wrocław Polska;X-APPLE-RADIUS=500;X-TITLE=ul. Grunwaldzka 67:geo:17.0665483,51.1145141
END:VEVENT
END:VCALENDAR