BEGIN:VCALENDAR
VERSION:2.0
PRODID:-//Death Magnetic - ECPv5.10.1//NONSGML v1.0//EN
CALSCALE:GREGORIAN
METHOD:PUBLISH
X-WR-CALNAME:Death Magnetic
X-ORIGINAL-URL:https://deathmagnetic.pl
X-WR-CALDESC:Events for Death Magnetic
BEGIN:VTIMEZONE
TZID:Europe/Warsaw
BEGIN:DAYLIGHT
TZOFFSETFROM:+0100
TZOFFSETTO:+0200
TZNAME:CEST
DTSTART:20150329T010000
END:DAYLIGHT
BEGIN:STANDARD
TZOFFSETFROM:+0200
TZOFFSETTO:+0100
TZNAME:CET
DTSTART:20151025T010000
END:STANDARD
END:VTIMEZONE
BEGIN:VEVENT
DTSTART;TZID=Europe/Warsaw:20151009T080000
DTEND;TZID=Europe/Warsaw:20151009T170000
DTSTAMP:20260421T035839
CREATED:20150505T183233Z
LAST-MODIFIED:20150505T183233Z
UID:82845-1444377600-1444410000@deathmagnetic.pl
SUMMARY:Venom + Vader + Divine Chaos
DESCRIPTION:Ceny biletów: \n79zł / 89zł / 99zł \nBilety dostępne na: \nPW Events\, Eventim\, ebilet\, Ticketpro\, Biletomat
URL:https://deathmagnetic.pl/wydarzenie/venom-vader-divine-chaos-2/
LOCATION:Klub Muzyczny Parlament\, Św. Ducha 2\, Gdańsk\, 80-834\, Polska
CATEGORIES:Koncerty,zagraniczne
ATTACH;FMTTYPE=image/png:https://deathmagnetic.pl/wp-content/uploads/2015/05/venom-vader.png
END:VEVENT
END:VCALENDAR