BEGIN:VCALENDAR
VERSION:2.0
PRODID:-//Death Magnetic - ECPv5.10.1//NONSGML v1.0//EN
CALSCALE:GREGORIAN
METHOD:PUBLISH
X-WR-CALNAME:Death Magnetic
X-ORIGINAL-URL:https://deathmagnetic.pl
X-WR-CALDESC:Events for Death Magnetic
BEGIN:VTIMEZONE
TZID:Europe/Warsaw
BEGIN:DAYLIGHT
TZOFFSETFROM:+0100
TZOFFSETTO:+0200
TZNAME:CEST
DTSTART:20170326T010000
END:DAYLIGHT
BEGIN:STANDARD
TZOFFSETFROM:+0200
TZOFFSETTO:+0100
TZNAME:CET
DTSTART:20171029T010000
END:STANDARD
END:VTIMEZONE
BEGIN:VEVENT
DTSTART;TZID=Europe/Warsaw:20170225T190000
DTEND;TZID=Europe/Warsaw:20170225T230000
DTSTAMP:20260421T073911
CREATED:20170214T144304Z
LAST-MODIFIED:20170214T144304Z
UID:111713-1488049200-1488063600@deathmagnetic.pl
SUMMARY:Venflon
DESCRIPTION:Wjazd FREE!
URL:https://deathmagnetic.pl/wydarzenie/venflon/
LOCATION:Klub Prorock\, ul. Jana Pawła II 3 \, Sieradz\, łódzkie\, 98-200\, Polska
CATEGORIES:Koncerty,Polskie
ATTACH;FMTTYPE=image/jpeg:https://deathmagnetic.pl/wp-content/uploads/2017/02/Venflon.jpg
GEO:51.59438;18.7305919
X-APPLE-STRUCTURED-LOCATION;VALUE=URI;X-ADDRESS=Klub Prorock ul. Jana Pawła II 3  Sieradz łódzkie 98-200 Polska;X-APPLE-RADIUS=500;X-TITLE=ul. Jana Pawła II 3:geo:18.7305919,51.59438
END:VEVENT
END:VCALENDAR