BEGIN:VCALENDAR
VERSION:2.0
PRODID:-//Death Magnetic - ECPv5.10.1//NONSGML v1.0//EN
CALSCALE:GREGORIAN
METHOD:PUBLISH
X-WR-CALNAME:Death Magnetic
X-ORIGINAL-URL:https://deathmagnetic.pl
X-WR-CALDESC:Events for Death Magnetic
BEGIN:VTIMEZONE
TZID:Europe/Warsaw
BEGIN:DAYLIGHT
TZOFFSETFROM:+0100
TZOFFSETTO:+0200
TZNAME:CEST
DTSTART:20160327T010000
END:DAYLIGHT
BEGIN:STANDARD
TZOFFSETFROM:+0200
TZOFFSETTO:+0100
TZNAME:CET
DTSTART:20161030T010000
END:STANDARD
END:VTIMEZONE
BEGIN:VEVENT
DTSTART;TZID=Europe/Warsaw:20161105T190000
DTEND;TZID=Europe/Warsaw:20161105T220000
DTSTAMP:20260420T222026
CREATED:20161020T220656Z
LAST-MODIFIED:20161020T220656Z
UID:106683-1478372400-1478383200@deathmagnetic.pl
SUMMARY:Vendetta Tour - Steel Drunk
DESCRIPTION:Bilety: 10 zł (bilety do nabycia w dniu koncertu)
URL:https://deathmagnetic.pl/wydarzenie/vendetta-tour-steel-drunk/
LOCATION:Pub Bourbon Street\, Kolejowa 2\, Radomsko \, mazowieckie
CATEGORIES:Koncerty,patronaty,Polskie
ATTACH;FMTTYPE=image/jpeg:https://deathmagnetic.pl/wp-content/uploads/2016/10/steel-drunk.jpg
GEO:51.3891939;21.1529399
X-APPLE-STRUCTURED-LOCATION;VALUE=URI;X-ADDRESS=Pub Bourbon Street Kolejowa 2 Radomsko  mazowieckie;X-APPLE-RADIUS=500;X-TITLE=Kolejowa 2:geo:21.1529399,51.3891939
END:VEVENT
END:VCALENDAR