BEGIN:VCALENDAR
VERSION:2.0
PRODID:-//Death Magnetic - ECPv5.10.1//NONSGML v1.0//EN
CALSCALE:GREGORIAN
METHOD:PUBLISH
X-WR-CALNAME:Death Magnetic
X-ORIGINAL-URL:https://deathmagnetic.pl
X-WR-CALDESC:Events for Death Magnetic
BEGIN:VTIMEZONE
TZID:Europe/Warsaw
BEGIN:DAYLIGHT
TZOFFSETFROM:+0100
TZOFFSETTO:+0200
TZNAME:CEST
DTSTART:20150329T010000
END:DAYLIGHT
BEGIN:STANDARD
TZOFFSETFROM:+0200
TZOFFSETTO:+0100
TZNAME:CET
DTSTART:20151025T010000
END:STANDARD
END:VTIMEZONE
BEGIN:VEVENT
DTSTART;TZID=Europe/Warsaw:20151029T200000
DTEND;TZID=Europe/Warsaw:20151029T200000
DTSTAMP:20260421T075121
CREATED:20151023T104834Z
LAST-MODIFIED:20151023T104904Z
UID:93635-1446148800-1446148800@deathmagnetic.pl
SUMMARY:Valley of Fears Tour: Sun Dance + Lady Electric
DESCRIPTION:Zagrają:\nSun Dance (stoner/southern metal\, Kraków) \nLady Electric (stoner/psychodelia\, Gdynia) \nCena: 10 zł \nBilety dostępne w: Klub Desdemona \nStart: 20:00
URL:https://deathmagnetic.pl/wydarzenie/valley-of-fears-tour-sun-dance-lady-electric/
LOCATION:Klub Desdemona\, Abrahama 37\, Gdynia\, 81-366\, Polska
CATEGORIES:Koncerty,Polskie
ATTACH;FMTTYPE=image/jpeg:https://deathmagnetic.pl/wp-content/uploads/2015/09/trasa_sundance1.jpg
GEO:54.5180411;18.5408447
X-APPLE-STRUCTURED-LOCATION;VALUE=URI;X-ADDRESS=Klub Desdemona Abrahama 37 Gdynia 81-366 Polska;X-APPLE-RADIUS=500;X-TITLE=Abrahama 37:geo:18.5408447,54.5180411
END:VEVENT
END:VCALENDAR