BEGIN:VCALENDAR
VERSION:2.0
PRODID:-//Death Magnetic - ECPv5.10.1//NONSGML v1.0//EN
CALSCALE:GREGORIAN
METHOD:PUBLISH
X-WR-CALNAME:Death Magnetic
X-ORIGINAL-URL:https://deathmagnetic.pl
X-WR-CALDESC:Events for Death Magnetic
BEGIN:VTIMEZONE
TZID:Europe/Warsaw
BEGIN:DAYLIGHT
TZOFFSETFROM:+0100
TZOFFSETTO:+0200
TZNAME:CEST
DTSTART:20180325T010000
END:DAYLIGHT
BEGIN:STANDARD
TZOFFSETFROM:+0200
TZOFFSETTO:+0100
TZNAME:CET
DTSTART:20181028T010000
END:STANDARD
END:VTIMEZONE
BEGIN:VEVENT
DTSTART;TZID=Europe/Warsaw:20180425T190000
DTEND;TZID=Europe/Warsaw:20180425T230000
DTSTAMP:20260420T222630
CREATED:20180111T143150Z
LAST-MODIFIED:20180111T143150Z
UID:154273-1524682800-1524697200@deathmagnetic.pl
SUMMARY:Ugly Kid Joe "ALW 25"
DESCRIPTION:Godziny: wejście 19:00\, start 20:00 (dokładna rozpiska czasowa zostanie podana bliżej daty koncertu) \nCeny biletów: 89 / 100 zł \nMiejsca zakupu: www.go-ahead.pl\, www.biletomat.pl\, www.ticketmaster.pl\,www.ebilet.pl\, oraz sklepy sieci Empik\, Media Markt i Saturn
URL:https://deathmagnetic.pl/wydarzenie/ugly-kid-joe-alw-25/
LOCATION:Proxima\, ul. Żwirki i Wigury 99\, Warszawa\, Polska
CATEGORIES:Koncerty,zagraniczne
ATTACH;FMTTYPE=image/jpeg:https://deathmagnetic.pl/wp-content/uploads/2018/01/uglykidjoe.jpg
ORGANIZER;CN="Go%20Ahead":MAILTO:agencja@go-ahead.pl
GEO:52.212567;20.987187
X-APPLE-STRUCTURED-LOCATION;VALUE=URI;X-ADDRESS=Proxima ul. Żwirki i Wigury 99 Warszawa Polska;X-APPLE-RADIUS=500;X-TITLE=ul. Żwirki i Wigury 99:geo:20.987187,52.212567
END:VEVENT
END:VCALENDAR