BEGIN:VCALENDAR
VERSION:2.0
PRODID:-//Death Magnetic - ECPv5.10.1//NONSGML v1.0//EN
CALSCALE:GREGORIAN
METHOD:PUBLISH
X-WR-CALNAME:Death Magnetic
X-ORIGINAL-URL:https://deathmagnetic.pl
X-WR-CALDESC:Events for Death Magnetic
BEGIN:VTIMEZONE
TZID:Europe/Warsaw
BEGIN:DAYLIGHT
TZOFFSETFROM:+0100
TZOFFSETTO:+0200
TZNAME:CEST
DTSTART:20160327T010000
END:DAYLIGHT
BEGIN:STANDARD
TZOFFSETFROM:+0200
TZOFFSETTO:+0100
TZNAME:CET
DTSTART:20161030T010000
END:STANDARD
END:VTIMEZONE
BEGIN:VEVENT
DTSTART;TZID=Europe/Warsaw:20161009T190000
DTEND;TZID=Europe/Warsaw:20161009T230000
DTSTAMP:20260421T094503
CREATED:20160825T113532Z
LAST-MODIFIED:20160825T120242Z
UID:104807-1476039600-1476054000@deathmagnetic.pl
SUMMARY:Turbo + Internal Quiet + Repulsor
DESCRIPTION:Bilety:\n– 35zł – przedsprzedaż\n– 45zł – w dniu koncertu
URL:https://deathmagnetic.pl/wydarzenie/turbo-internal-quiet-repulsor/
LOCATION:Wydział Remontowy\, Plac Solidarności\, Gdańsk\, 80-863\, Polska
CATEGORIES:Koncerty,Polskie
ATTACH;FMTTYPE=image/jpeg:https://deathmagnetic.pl/wp-content/uploads/2016/08/Turbo-IQ-Tour-2016-update.jpg
GEO:54.3605478;18.6490011
X-APPLE-STRUCTURED-LOCATION;VALUE=URI;X-ADDRESS=Wydział Remontowy Plac Solidarności Gdańsk 80-863 Polska;X-APPLE-RADIUS=500;X-TITLE=Plac Solidarności:geo:18.6490011,54.3605478
END:VEVENT
END:VCALENDAR