BEGIN:VCALENDAR
VERSION:2.0
PRODID:-//Death Magnetic - ECPv5.10.1//NONSGML v1.0//EN
CALSCALE:GREGORIAN
METHOD:PUBLISH
X-WR-CALNAME:Death Magnetic
X-ORIGINAL-URL:https://deathmagnetic.pl
X-WR-CALDESC:Events for Death Magnetic
BEGIN:VTIMEZONE
TZID:Europe/Warsaw
BEGIN:DAYLIGHT
TZOFFSETFROM:+0100
TZOFFSETTO:+0200
TZNAME:CEST
DTSTART:20160327T010000
END:DAYLIGHT
BEGIN:STANDARD
TZOFFSETFROM:+0200
TZOFFSETTO:+0100
TZNAME:CET
DTSTART:20161030T010000
END:STANDARD
END:VTIMEZONE
BEGIN:VEVENT
DTSTART;TZID=Europe/Warsaw:20161117T190000
DTEND;TZID=Europe/Warsaw:20161117T230000
DTSTAMP:20260421T094506
CREATED:20160825T104300Z
LAST-MODIFIED:20160825T120631Z
UID:104785-1479409200-1479423600@deathmagnetic.pl
SUMMARY:Turbo + Internal Quiet + Post Profession
DESCRIPTION:Bilety:\n– 35zł – przedsprzedaż\n– 45zł – w dniu koncertu
URL:https://deathmagnetic.pl/wydarzenie/turbo-internal-quiet-post-profession-2/
LOCATION:Centrum Promocji Kultury\, Podskarbińska 2\, Warszawa\, mazowieckie\, 03-833\, Polska
CATEGORIES:Koncerty,Polskie
ATTACH;FMTTYPE=image/jpeg:https://deathmagnetic.pl/wp-content/uploads/2016/08/Turbo-IQ-Tour-2016-update.jpg
GEO:52.2470859;21.0754345
X-APPLE-STRUCTURED-LOCATION;VALUE=URI;X-ADDRESS=Centrum Promocji Kultury Podskarbińska 2 Warszawa mazowieckie 03-833 Polska;X-APPLE-RADIUS=500;X-TITLE=Podskarbińska 2:geo:21.0754345,52.2470859
END:VEVENT
END:VCALENDAR