BEGIN:VCALENDAR
VERSION:2.0
PRODID:-//Death Magnetic - ECPv5.10.1//NONSGML v1.0//EN
CALSCALE:GREGORIAN
METHOD:PUBLISH
X-WR-CALNAME:Death Magnetic
X-ORIGINAL-URL:https://deathmagnetic.pl
X-WR-CALDESC:Events for Death Magnetic
BEGIN:VTIMEZONE
TZID:Europe/Warsaw
BEGIN:DAYLIGHT
TZOFFSETFROM:+0100
TZOFFSETTO:+0200
TZNAME:CEST
DTSTART:20160327T010000
END:DAYLIGHT
BEGIN:STANDARD
TZOFFSETFROM:+0200
TZOFFSETTO:+0100
TZNAME:CET
DTSTART:20161030T010000
END:STANDARD
END:VTIMEZONE
BEGIN:VEVENT
DTSTART;TZID=Europe/Warsaw:20160105T190000
DTEND;TZID=Europe/Warsaw:20160105T235500
DTSTAMP:20260421T115422
CREATED:20151228T192503Z
LAST-MODIFIED:20151228T192503Z
UID:96204-1452020400-1452038100@deathmagnetic.pl
SUMMARY:TURBO - finał trasy 35th Anniversary Tour
DESCRIPTION:Bilety: 45 zł (przedsprzedaż) / 50 zł (w dniu koncertu)\nBilety dostępne: klub Blue Note\, codziennie od 13:00 do 19:00.
URL:https://deathmagnetic.pl/wydarzenie/turbo-final-trasy-35th-anniversary-tour/
LOCATION:Blue Note Jazz Club\, ul. Kościuszki 79\, Poznań\, 61-891\, Polska
CATEGORIES:Koncerty,Polskie
ATTACH;FMTTYPE=image/jpeg:https://deathmagnetic.pl/wp-content/uploads/2015/12/Turbo_plakat_02_04_POZNAN_Media2.jpg
ORGANIZER;CN="Y%20booking":MAILTO:ybookingPL@gmail.com
END:VEVENT
END:VCALENDAR