BEGIN:VCALENDAR
VERSION:2.0
PRODID:-//Death Magnetic - ECPv5.10.1//NONSGML v1.0//EN
CALSCALE:GREGORIAN
METHOD:PUBLISH
X-WR-CALNAME:Death Magnetic
X-ORIGINAL-URL:https://deathmagnetic.pl
X-WR-CALDESC:Events for Death Magnetic
BEGIN:VTIMEZONE
TZID:Europe/Warsaw
BEGIN:DAYLIGHT
TZOFFSETFROM:+0100
TZOFFSETTO:+0200
TZNAME:CEST
DTSTART:20150329T010000
END:DAYLIGHT
BEGIN:STANDARD
TZOFFSETFROM:+0200
TZOFFSETTO:+0100
TZNAME:CET
DTSTART:20151025T010000
END:STANDARD
END:VTIMEZONE
BEGIN:VEVENT
DTSTART;TZID=Europe/Warsaw:20150417T190000
DTEND;TZID=Europe/Warsaw:20150417T230000
DTSTAMP:20260421T095403
CREATED:20150221T110405Z
LAST-MODIFIED:20150225T162352Z
UID:73466-1429297200-1429311600@deathmagnetic.pl
SUMMARY:Tsima + Holographic Human Element
DESCRIPTION:Start: 19:00
URL:https://deathmagnetic.pl/wydarzenie/tsima-holographic-human-element/
LOCATION:Pub Korba\, ul. Złota 1\, Katowice\, Polska
CATEGORIES:Koncerty,Polskie
ATTACH;FMTTYPE=image/jpeg:https://deathmagnetic.pl/wp-content/uploads/2015/02/Tsima.jpg
ORGANIZER;CN="Wild%20Bread%20Booking":MAILTO:WildBreadBooking@gmail.com
GEO:50.2721309;18.992622
X-APPLE-STRUCTURED-LOCATION;VALUE=URI;X-ADDRESS=Pub Korba ul. Złota 1 Katowice Polska;X-APPLE-RADIUS=500;X-TITLE=ul. Złota 1:geo:18.992622,50.2721309
END:VEVENT
END:VCALENDAR