BEGIN:VCALENDAR
VERSION:2.0
PRODID:-//Death Magnetic - ECPv5.10.1//NONSGML v1.0//EN
CALSCALE:GREGORIAN
METHOD:PUBLISH
X-WR-CALNAME:Death Magnetic
X-ORIGINAL-URL:https://deathmagnetic.pl
X-WR-CALDESC:Events for Death Magnetic
BEGIN:VTIMEZONE
TZID:Europe/Warsaw
BEGIN:DAYLIGHT
TZOFFSETFROM:+0100
TZOFFSETTO:+0200
TZNAME:CEST
DTSTART:20180325T010000
END:DAYLIGHT
BEGIN:STANDARD
TZOFFSETFROM:+0200
TZOFFSETTO:+0100
TZNAME:CET
DTSTART:20181028T010000
END:STANDARD
END:VTIMEZONE
BEGIN:VEVENT
DTSTART;TZID=Europe/Warsaw:20180215T190000
DTEND;TZID=Europe/Warsaw:20180215T233000
DTSTAMP:20260421T075031
CREATED:20180110T180526Z
LAST-MODIFIED:20180110T181606Z
UID:154244-1518721200-1518737400@deathmagnetic.pl
SUMMARY:Feed the Fire\, Fan the Flame: Blaze Of Perdition + In Twilight's Embrace + Dom Zły
DESCRIPTION:Bilety: http://lefthandsounds.org/wydarzenie/bop-ite-dz-wro/ \n15.02. Wrocław\, Liverpool \nprzedsprzedaż: 40zł \nw dniu koncertu: 50zł
URL:https://deathmagnetic.pl/wydarzenie/trasa-feed-the-fire-fan-the-flame-blaze-of-perdition-in-twilights-embrace-dom-zly-7/
LOCATION:Klub Muzyczny Liverpool\, Świdnicka 37\, Wrocław\, Polska
CATEGORIES:Koncerty,Polskie
ATTACH;FMTTYPE=image/png:https://deathmagnetic.pl/wp-content/uploads/2018/01/1515572440.png
GEO:51.104006;17.030348
X-APPLE-STRUCTURED-LOCATION;VALUE=URI;X-ADDRESS=Klub Muzyczny Liverpool Świdnicka 37 Wrocław Polska;X-APPLE-RADIUS=500;X-TITLE=Świdnicka 37:geo:17.030348,51.104006
END:VEVENT
END:VCALENDAR