BEGIN:VCALENDAR
VERSION:2.0
PRODID:-//Death Magnetic - ECPv5.10.1//NONSGML v1.0//EN
CALSCALE:GREGORIAN
METHOD:PUBLISH
X-WR-CALNAME:Death Magnetic
X-ORIGINAL-URL:https://deathmagnetic.pl
X-WR-CALDESC:Events for Death Magnetic
BEGIN:VTIMEZONE
TZID:Europe/Warsaw
BEGIN:DAYLIGHT
TZOFFSETFROM:+0100
TZOFFSETTO:+0200
TZNAME:CEST
DTSTART:20180325T010000
END:DAYLIGHT
BEGIN:STANDARD
TZOFFSETFROM:+0200
TZOFFSETTO:+0100
TZNAME:CET
DTSTART:20181028T010000
END:STANDARD
END:VTIMEZONE
BEGIN:VEVENT
DTSTART;TZID=Europe/Warsaw:20180213T190000
DTEND;TZID=Europe/Warsaw:20180213T233000
DTSTAMP:20260421T064832
CREATED:20180110T175947Z
LAST-MODIFIED:20180110T181555Z
UID:154241-1518548400-1518564600@deathmagnetic.pl
SUMMARY:Feed the Fire\, Fan the Flame: Blaze Of Perdition + In Twilight's Embrace + Dom Zły
DESCRIPTION:Bilety: http://lefthandsounds.org/wydarzenie/bop-ite-dz-szn/ \n13.02. Szczecin\, K4 \nprzedsprzedaż: 40zł \nw dniu koncertu: 50zł
URL:https://deathmagnetic.pl/wydarzenie/trasa-feed-the-fire-fan-the-flame-blaze-of-perdition-in-twilights-embrace-dom-zly-5/
LOCATION:Kolumba 4 – szczeciński loft kultury\, Kolumba 4\, Szczecin \, zachodniopomorskie \, 70-535\, Polska
CATEGORIES:Koncerty,Polskie
ATTACH;FMTTYPE=image/png:https://deathmagnetic.pl/wp-content/uploads/2018/01/1515572440.png
GEO:53.415155;14.547227
X-APPLE-STRUCTURED-LOCATION;VALUE=URI;X-ADDRESS=Kolumba 4 – szczeciński loft kultury Kolumba 4 Szczecin  zachodniopomorskie  70-535 Polska;X-APPLE-RADIUS=500;X-TITLE=Kolumba 4:geo:14.547227,53.415155
END:VEVENT
END:VCALENDAR