BEGIN:VCALENDAR
VERSION:2.0
PRODID:-//Death Magnetic - ECPv5.10.1//NONSGML v1.0//EN
CALSCALE:GREGORIAN
METHOD:PUBLISH
X-WR-CALNAME:Death Magnetic
X-ORIGINAL-URL:https://deathmagnetic.pl
X-WR-CALDESC:Events for Death Magnetic
BEGIN:VTIMEZONE
TZID:Europe/Warsaw
BEGIN:DAYLIGHT
TZOFFSETFROM:+0100
TZOFFSETTO:+0200
TZNAME:CEST
DTSTART:20180325T010000
END:DAYLIGHT
BEGIN:STANDARD
TZOFFSETFROM:+0200
TZOFFSETTO:+0100
TZNAME:CET
DTSTART:20181028T010000
END:STANDARD
END:VTIMEZONE
BEGIN:VEVENT
DTSTART;TZID=Europe/Warsaw:20180212T190000
DTEND;TZID=Europe/Warsaw:20180212T233000
DTSTAMP:20260421T070524
CREATED:20180110T175648Z
LAST-MODIFIED:20180110T181545Z
UID:154240-1518462000-1518478200@deathmagnetic.pl
SUMMARY:Feed the Fire\, Fan the Flame: Blaze Of Perdition + In Twilight's Embrace + Dom Zły
DESCRIPTION:Bilety: http://lefthandsounds.org/wydarzenie/bop-ite-dz-gda/ \n12.02. Gdańsk\, Protokultura \nprzedsprzedaż: 40zł \nw dniu koncertu: 50zł
URL:https://deathmagnetic.pl/wydarzenie/trasa-feed-the-fire-fan-the-flame-blaze-of-perdition-in-twilights-embrace-dom-zly-4/
LOCATION:Klub Protokultura\, Niterów 29B\, Gdańsk\, 80-864 \, Polska
CATEGORIES:Koncerty,Polskie
ATTACH;FMTTYPE=image/png:https://deathmagnetic.pl/wp-content/uploads/2018/01/1515572440.png
GEO:54.3650673;18.6444974
X-APPLE-STRUCTURED-LOCATION;VALUE=URI;X-ADDRESS=Klub Protokultura Niterów 29B Gdańsk 80-864  Polska;X-APPLE-RADIUS=500;X-TITLE=Niterów 29B:geo:18.6444974,54.3650673
END:VEVENT
END:VCALENDAR