BEGIN:VCALENDAR
VERSION:2.0
PRODID:-//Death Magnetic - ECPv5.10.1//NONSGML v1.0//EN
CALSCALE:GREGORIAN
METHOD:PUBLISH
X-WR-CALNAME:Death Magnetic
X-ORIGINAL-URL:https://deathmagnetic.pl
X-WR-CALDESC:Events for Death Magnetic
BEGIN:VTIMEZONE
TZID:Europe/Warsaw
BEGIN:DAYLIGHT
TZOFFSETFROM:+0100
TZOFFSETTO:+0200
TZNAME:CEST
DTSTART:20180325T010000
END:DAYLIGHT
BEGIN:STANDARD
TZOFFSETFROM:+0200
TZOFFSETTO:+0100
TZNAME:CET
DTSTART:20181028T010000
END:STANDARD
END:VTIMEZONE
BEGIN:VEVENT
DTSTART;TZID=Europe/Warsaw:20180421T190000
DTEND;TZID=Europe/Warsaw:20180421T220000
DTSTAMP:20260420T063841
CREATED:20180410T124856Z
LAST-MODIFIED:20180410T124856Z
UID:155957-1524337200-1524348000@deathmagnetic.pl
SUMMARY:Totem + Drown My Day + Planet Hell + J.D. Overdrive
DESCRIPTION:BILETY: \n25zł – przedsprzedaż\n35zł – w dniu koncertu
URL:https://deathmagnetic.pl/wydarzenie/totem-drown-my-day-planet-hell-j-d-overdrive/
LOCATION:Red & Black\, Rynek 13/4\, Chorzów\, mazowieckie\, Polska
CATEGORIES:Koncerty,Polskie
ATTACH;FMTTYPE=image/jpeg:https://deathmagnetic.pl/wp-content/uploads/2018/04/totem-chorzow.jpg
GEO:50.2968721;18.953535
X-APPLE-STRUCTURED-LOCATION;VALUE=URI;X-ADDRESS=Red & Black Rynek 13/4 Chorzów mazowieckie Polska;X-APPLE-RADIUS=500;X-TITLE=Rynek 13/4:geo:18.953535,50.2968721
END:VEVENT
END:VCALENDAR