BEGIN:VCALENDAR
VERSION:2.0
PRODID:-//Death Magnetic - ECPv5.10.1//NONSGML v1.0//EN
CALSCALE:GREGORIAN
METHOD:PUBLISH
X-WR-CALNAME:Death Magnetic
X-ORIGINAL-URL:https://deathmagnetic.pl
X-WR-CALDESC:Events for Death Magnetic
BEGIN:VTIMEZONE
TZID:Europe/Warsaw
BEGIN:DAYLIGHT
TZOFFSETFROM:+0100
TZOFFSETTO:+0200
TZNAME:CEST
DTSTART:20150329T010000
END:DAYLIGHT
BEGIN:STANDARD
TZOFFSETFROM:+0200
TZOFFSETTO:+0100
TZNAME:CET
DTSTART:20151025T010000
END:STANDARD
END:VTIMEZONE
BEGIN:VEVENT
DTSTART;TZID=Europe/Warsaw:20151121T190000
DTEND;TZID=Europe/Warsaw:20151121T230000
DTSTAMP:20260421T110524
CREATED:20150523T095123Z
LAST-MODIFIED:20151113T171743Z
UID:84338-1448132400-1448146800@deathmagnetic.pl
SUMMARY:Torche
DESCRIPTION:Ceny biletów (w przedsprzedaży / w dniu koncertu): 45zł / 55zł \nWejście: 19:00\nKoniec: 23:00
URL:https://deathmagnetic.pl/wydarzenie/torche-2/
LOCATION:Zaścianek\, ul. Rostafińskiego 4\, Kraków\, Polska
CATEGORIES:Koncerty,zagraniczne
ATTACH;FMTTYPE=image/jpeg:https://deathmagnetic.pl/wp-content/uploads/2015/05/torche.jpg
ORGANIZER;CN="KnockOut%20Productions":MAILTO:info@knockoutprod.net
GEO:50.0684219;19.9050327
X-APPLE-STRUCTURED-LOCATION;VALUE=URI;X-ADDRESS=Zaścianek ul. Rostafińskiego 4 Kraków Polska;X-APPLE-RADIUS=500;X-TITLE=ul. Rostafińskiego 4:geo:19.9050327,50.0684219
END:VEVENT
END:VCALENDAR