BEGIN:VCALENDAR
VERSION:2.0
PRODID:-//Death Magnetic - ECPv5.10.1//NONSGML v1.0//EN
CALSCALE:GREGORIAN
METHOD:PUBLISH
X-WR-CALNAME:Death Magnetic
X-ORIGINAL-URL:https://deathmagnetic.pl
X-WR-CALDESC:Events for Death Magnetic
BEGIN:VTIMEZONE
TZID:Europe/Warsaw
BEGIN:DAYLIGHT
TZOFFSETFROM:+0100
TZOFFSETTO:+0200
TZNAME:CEST
DTSTART:20170326T010000
END:DAYLIGHT
BEGIN:STANDARD
TZOFFSETFROM:+0200
TZOFFSETTO:+0100
TZNAME:CET
DTSTART:20171029T010000
END:STANDARD
END:VTIMEZONE
BEGIN:VEVENT
DTSTART;TZID=Europe/Warsaw:20171126T183000
DTEND;TZID=Europe/Warsaw:20171126T230000
DTSTAMP:20260420T103642
CREATED:20170606T123505Z
LAST-MODIFIED:20170607T070830Z
UID:119003-1511721000-1511737200@deathmagnetic.pl
SUMMARY:Tides From Nebula + Materia + Sunnata
DESCRIPTION:Bilety: 45 zł – przedsprzedaż\, 55 zł – w dniu koncertu
URL:https://deathmagnetic.pl/wydarzenie/tides-from-nebula-materia-sunnata-8/
LOCATION:Zmiana Klimatu\, ul. Warszawska 6\, Białystok\, podlaskie \, 15-063\, Polska
CATEGORIES:Koncerty,Polskie
ATTACH;FMTTYPE=image/jpeg:https://deathmagnetic.pl/wp-content/uploads/2017/06/18880013_1434665723222857_1529680719257236165_o.jpg
ORGANIZER;CN="KnockOut%20Productions":MAILTO:info@knockoutprod.net
GEO:53.1353834;23.1661206
X-APPLE-STRUCTURED-LOCATION;VALUE=URI;X-ADDRESS=Zmiana Klimatu ul. Warszawska 6 Białystok podlaskie  15-063 Polska;X-APPLE-RADIUS=500;X-TITLE=ul. Warszawska 6:geo:23.1661206,53.1353834
END:VEVENT
END:VCALENDAR