BEGIN:VCALENDAR
VERSION:2.0
PRODID:-//Death Magnetic - ECPv5.10.1//NONSGML v1.0//EN
CALSCALE:GREGORIAN
METHOD:PUBLISH
X-WR-CALNAME:Death Magnetic
X-ORIGINAL-URL:https://deathmagnetic.pl
X-WR-CALDESC:Events for Death Magnetic
BEGIN:VTIMEZONE
TZID:Europe/Warsaw
BEGIN:DAYLIGHT
TZOFFSETFROM:+0100
TZOFFSETTO:+0200
TZNAME:CEST
DTSTART:20170326T010000
END:DAYLIGHT
BEGIN:STANDARD
TZOFFSETFROM:+0200
TZOFFSETTO:+0100
TZNAME:CET
DTSTART:20171029T010000
END:STANDARD
END:VTIMEZONE
BEGIN:VEVENT
DTSTART;TZID=Europe/Warsaw:20171119T183000
DTEND;TZID=Europe/Warsaw:20171119T230000
DTSTAMP:20260420T205559
CREATED:20170606T122907Z
LAST-MODIFIED:20170607T070657Z
UID:118997-1511116200-1511132400@deathmagnetic.pl
SUMMARY:Tides From Nebula + Materia + Sunnata
DESCRIPTION:Bilety: 45 zł – przedsprzedaż\, 55 zł – w dniu koncertu
URL:https://deathmagnetic.pl/wydarzenie/tides-from-nebula-materia-sunnata-4/
LOCATION:A2 – Centrum Koncertowe\, ul. Góralska 5\, Wrocław\, Polska
CATEGORIES:Koncerty,Polskie
ATTACH;FMTTYPE=image/jpeg:https://deathmagnetic.pl/wp-content/uploads/2017/06/18880013_1434665723222857_1529680719257236165_o.jpg
ORGANIZER;CN="KnockOut%20Productions":MAILTO:info@knockoutprod.net
GEO:51.109062;17.0023325
X-APPLE-STRUCTURED-LOCATION;VALUE=URI;X-ADDRESS=A2 – Centrum Koncertowe ul. Góralska 5 Wrocław Polska;X-APPLE-RADIUS=500;X-TITLE=ul. Góralska 5:geo:17.0023325,51.109062
END:VEVENT
END:VCALENDAR