BEGIN:VCALENDAR
VERSION:2.0
PRODID:-//Death Magnetic - ECPv5.10.1//NONSGML v1.0//EN
CALSCALE:GREGORIAN
METHOD:PUBLISH
X-WR-CALNAME:Death Magnetic
X-ORIGINAL-URL:https://deathmagnetic.pl
X-WR-CALDESC:Events for Death Magnetic
BEGIN:VTIMEZONE
TZID:Europe/Warsaw
BEGIN:DAYLIGHT
TZOFFSETFROM:+0100
TZOFFSETTO:+0200
TZNAME:CEST
DTSTART:20160327T010000
END:DAYLIGHT
BEGIN:STANDARD
TZOFFSETFROM:+0200
TZOFFSETTO:+0100
TZNAME:CET
DTSTART:20161030T010000
END:STANDARD
END:VTIMEZONE
BEGIN:VEVENT
DTSTART;TZID=Europe/Warsaw:20161105T210000
DTEND;TZID=Europe/Warsaw:20161105T235500
DTSTAMP:20260421T104649
CREATED:20160413T213108Z
LAST-MODIFIED:20160505T081847Z
UID:99204-1478379600-1478390100@deathmagnetic.pl
SUMMARY:Tides From Nebula
DESCRIPTION:Więcej informacji już wkrótce!
URL:https://deathmagnetic.pl/wydarzenie/tides-from-nebula-5/
LOCATION:Warszawa\, mazowieckie\, Polska
CATEGORIES:Koncerty,Polskie
ATTACH;FMTTYPE=image/jpeg:https://deathmagnetic.pl/wp-content/uploads/2016/04/Tides-From-Nebula-trasa.jpg
END:VEVENT
END:VCALENDAR