BEGIN:VCALENDAR
VERSION:2.0
PRODID:-//Death Magnetic - ECPv5.10.1//NONSGML v1.0//EN
CALSCALE:GREGORIAN
METHOD:PUBLISH
X-WR-CALNAME:Death Magnetic
X-ORIGINAL-URL:https://deathmagnetic.pl
X-WR-CALDESC:Events for Death Magnetic
BEGIN:VTIMEZONE
TZID:Europe/Warsaw
BEGIN:DAYLIGHT
TZOFFSETFROM:+0100
TZOFFSETTO:+0200
TZNAME:CEST
DTSTART:20180325T010000
END:DAYLIGHT
BEGIN:STANDARD
TZOFFSETFROM:+0200
TZOFFSETTO:+0100
TZNAME:CET
DTSTART:20181028T010000
END:STANDARD
END:VTIMEZONE
BEGIN:VEVENT
DTSTART;TZID=Europe/Warsaw:20180322T190000
DTEND;TZID=Europe/Warsaw:20180322T220000
DTSTAMP:20260421T092017
CREATED:20171030T192310Z
LAST-MODIFIED:20171030T192310Z
UID:151799-1521745200-1521756000@deathmagnetic.pl
SUMMARY:The Temperance Movement
DESCRIPTION:Data: 2018-03-22 (czwartek)\nMiasto: Warszawa\nMiejsce: Hydrozagadka\nAdres: ul. 11 listopada 22\nStart sprzedaży: 3.11.2018\, godz. 10:00\nMiejsca sprzedaży: www.go-ahead.pl\, www.biletomat.pl\, www.ebilet.pl\,www.ticketpro.pl\, www.ticketmaster.pl oraz sklepy sieci Empik\, Media Markt\, Saturn
URL:https://deathmagnetic.pl/wydarzenie/the-temperance-movement/
LOCATION:Hydrozagadka\, 11 listopada 22\, Warszawa\, Polska
CATEGORIES:Koncerty,zagraniczne
ATTACH;FMTTYPE=image/jpeg:https://deathmagnetic.pl/wp-content/uploads/2017/10/22861842_10159572804240486_2164015951968872068_o.jpg
ORGANIZER;CN="Go%20Ahead":MAILTO:agencja@go-ahead.pl
GEO:52.259164;21.0363389
X-APPLE-STRUCTURED-LOCATION;VALUE=URI;X-ADDRESS=Hydrozagadka 11 listopada 22 Warszawa Polska;X-APPLE-RADIUS=500;X-TITLE=11 listopada 22:geo:21.0363389,52.259164
END:VEVENT
END:VCALENDAR