BEGIN:VCALENDAR
VERSION:2.0
PRODID:-//Death Magnetic - ECPv5.10.1//NONSGML v1.0//EN
CALSCALE:GREGORIAN
METHOD:PUBLISH
X-WR-CALNAME:Death Magnetic
X-ORIGINAL-URL:https://deathmagnetic.pl
X-WR-CALDESC:Events for Death Magnetic
BEGIN:VTIMEZONE
TZID:Europe/Warsaw
BEGIN:DAYLIGHT
TZOFFSETFROM:+0100
TZOFFSETTO:+0200
TZNAME:CEST
DTSTART:20160327T010000
END:DAYLIGHT
BEGIN:STANDARD
TZOFFSETFROM:+0200
TZOFFSETTO:+0100
TZNAME:CET
DTSTART:20161030T010000
END:STANDARD
END:VTIMEZONE
BEGIN:VEVENT
DTSTART;TZID=Europe/Warsaw:20161021T190000
DTEND;TZID=Europe/Warsaw:20161021T230000
DTSTAMP:20260421T015318
CREATED:20161003T154142Z
LAST-MODIFIED:20161003T154142Z
UID:106101-1477076400-1477090800@deathmagnetic.pl
SUMMARY:The Moonlight Tour: Phedora + Eris Is My Homegirl
DESCRIPTION:BILETY: http://ubazyla.8merch.com/eris_is_my_homegirl_and_phedora_21_10-id9909 (20zł W DNIU KONCERTU)\nDwa zespoły prosto z Lublina – Eris Is My Homegirl i Phedora – wyruszają we wspólną trasę koncertową! „The Moonlight Tour” odwiedzi wiele miast w Polsce\, w tym także i Twoje! Występy obydwu zespołów będą promować ich debiutanckie albumy („For The Most Beautiful One” Eris Is My Homegirl i „The House of Ink” Phedory) i poprawne zachowanie na koncertach – czyli prawdziwe piekło pod sceną!
URL:https://deathmagnetic.pl/wydarzenie/the-moonlight-tour-phedora-eris-is-my-homegirl-5/
LOCATION:Klub u Bazyla\, ul. Norwida 18A\, Poznań\, wielkopolskie\, 60-867\, Polska
CATEGORIES:Koncerty,Polskie
ATTACH;FMTTYPE=image/jpeg:https://deathmagnetic.pl/wp-content/uploads/2016/10/phedora.jpg
GEO:52.41666;16.9111489
X-APPLE-STRUCTURED-LOCATION;VALUE=URI;X-ADDRESS=Klub u Bazyla ul. Norwida 18A Poznań wielkopolskie 60-867 Polska;X-APPLE-RADIUS=500;X-TITLE=ul. Norwida 18A:geo:16.9111489,52.41666
END:VEVENT
END:VCALENDAR