BEGIN:VCALENDAR
VERSION:2.0
PRODID:-//Death Magnetic - ECPv5.10.1//NONSGML v1.0//EN
CALSCALE:GREGORIAN
METHOD:PUBLISH
X-WR-CALNAME:Death Magnetic
X-ORIGINAL-URL:https://deathmagnetic.pl
X-WR-CALDESC:Events for Death Magnetic
BEGIN:VTIMEZONE
TZID:Europe/Warsaw
BEGIN:DAYLIGHT
TZOFFSETFROM:+0100
TZOFFSETTO:+0200
TZNAME:CEST
DTSTART:20160327T010000
END:DAYLIGHT
BEGIN:STANDARD
TZOFFSETFROM:+0200
TZOFFSETTO:+0100
TZNAME:CET
DTSTART:20161030T010000
END:STANDARD
END:VTIMEZONE
BEGIN:VEVENT
DTSTART;TZID=Europe/Warsaw:20161014T190000
DTEND;TZID=Europe/Warsaw:20161014T230000
DTSTAMP:20260421T003844
CREATED:20161003T153411Z
LAST-MODIFIED:20161003T153411Z
UID:106097-1476471600-1476486000@deathmagnetic.pl
SUMMARY:The Moonlight Tour: Phedora + Eris Is My Homegirl
DESCRIPTION:WSTĘP: 20zł (BILETY DOSTĘPNE W DNIU KONCERTU W KLUBIE). \nDwa zespoły prosto z Lublina – Eris Is My Homegirl i Phedora – wyruszają we wspólną trasę koncertową! „The Moonlight Tour” odwiedzi wiele miast w Polsce\, w tym także i Twoje! Występy obydwu zespołów będą promować ich debiutanckie albumy („For The Most Beautiful One” Eris Is My Homegirl i „The House of Ink” Phedory) i poprawne zachowanie na koncertach – czyli prawdziwe piekło pod sceną!
URL:https://deathmagnetic.pl/wydarzenie/the-moonlight-tour-phedora-eris-is-my-homegirl-3/
LOCATION:Ciemna Strona Miasta\, Plac gen. Walerego Wróblewskiego 3\, Wrocław\, Polska
CATEGORIES:Koncerty,Polskie
ATTACH;FMTTYPE=image/jpeg:https://deathmagnetic.pl/wp-content/uploads/2016/10/phedora.jpg
GEO:51.1052549;17.048337
X-APPLE-STRUCTURED-LOCATION;VALUE=URI;X-ADDRESS=Ciemna Strona Miasta Plac gen. Walerego Wróblewskiego 3 Wrocław Polska;X-APPLE-RADIUS=500;X-TITLE=Plac gen. Walerego Wróblewskiego 3:geo:17.048337,51.1052549
END:VEVENT
END:VCALENDAR