BEGIN:VCALENDAR
VERSION:2.0
PRODID:-//Death Magnetic - ECPv5.10.1//NONSGML v1.0//EN
CALSCALE:GREGORIAN
METHOD:PUBLISH
X-WR-CALNAME:Death Magnetic
X-ORIGINAL-URL:https://deathmagnetic.pl
X-WR-CALDESC:Events for Death Magnetic
BEGIN:VTIMEZONE
TZID:Europe/Warsaw
BEGIN:DAYLIGHT
TZOFFSETFROM:+0100
TZOFFSETTO:+0200
TZNAME:CEST
DTSTART:20160327T010000
END:DAYLIGHT
BEGIN:STANDARD
TZOFFSETFROM:+0200
TZOFFSETTO:+0100
TZNAME:CET
DTSTART:20161030T010000
END:STANDARD
END:VTIMEZONE
BEGIN:VEVENT
DTSTART;TZID=Europe/Warsaw:20161008T190000
DTEND;TZID=Europe/Warsaw:20161008T230000
DTSTAMP:20260421T061901
CREATED:20161003T153019Z
LAST-MODIFIED:20161003T153019Z
UID:106094-1475953200-1475967600@deathmagnetic.pl
SUMMARY:The Moonlight Tour: Phedora + Eris Is My Homegirl
DESCRIPTION:WSTĘP: 15/20zł (PRZEDSPRZEDAŻ BILETÓW TYLKO W KLUBIE). \nDwa zespoły prosto z Lublina – Eris Is My Homegirl i Phedora – wyruszają we wspólną trasę koncertową! „The Moonlight Tour” odwiedzi wiele miast w Polsce\, w tym także i Twoje! Występy obydwu zespołów będą promować ich debiutanckie albumy („For The Most Beautiful One” Eris Is My Homegirl i „The House of Ink” Phedory) i poprawne zachowanie na koncertach – czyli prawdziwe piekło pod sceną!
URL:https://deathmagnetic.pl/wydarzenie/the-moonlight-tour-phedora-eris-is-my-homegirl-2/
LOCATION:Klub Atmosfera\, ul. Kopernika 8\, Chełm\, 22-100 \, Polska
CATEGORIES:Koncerty,Polskie
ATTACH;FMTTYPE=image/jpeg:https://deathmagnetic.pl/wp-content/uploads/2016/10/phedora.jpg
GEO:51.1333319;23.4737965
X-APPLE-STRUCTURED-LOCATION;VALUE=URI;X-ADDRESS=Klub Atmosfera ul. Kopernika 8 Chełm 22-100  Polska;X-APPLE-RADIUS=500;X-TITLE=ul. Kopernika 8:geo:23.4737965,51.1333319
END:VEVENT
END:VCALENDAR