BEGIN:VCALENDAR
VERSION:2.0
PRODID:-//Death Magnetic - ECPv5.10.1//NONSGML v1.0//EN
CALSCALE:GREGORIAN
METHOD:PUBLISH
X-WR-CALNAME:Death Magnetic
X-ORIGINAL-URL:https://deathmagnetic.pl
X-WR-CALDESC:Events for Death Magnetic
BEGIN:VTIMEZONE
TZID:Europe/Warsaw
BEGIN:DAYLIGHT
TZOFFSETFROM:+0100
TZOFFSETTO:+0200
TZNAME:CEST
DTSTART:20160327T010000
END:DAYLIGHT
BEGIN:STANDARD
TZOFFSETFROM:+0200
TZOFFSETTO:+0100
TZNAME:CET
DTSTART:20161030T010000
END:STANDARD
END:VTIMEZONE
BEGIN:VEVENT
DTSTART;TZID=Europe/Warsaw:20160514T190000
DTEND;TZID=Europe/Warsaw:20160514T230000
DTSTAMP:20260419T144331
CREATED:20160419T211913Z
LAST-MODIFIED:20160419T211913Z
UID:99624-1463252400-1463266800@deathmagnetic.pl
SUMMARY:The Moon & The Nightspirit + Helroth
DESCRIPTION:  \nBilety:\nPrzedsprzedaż: 30 pln \n 
URL:https://deathmagnetic.pl/wydarzenie/the-moon-the-nightspirit-helroth/
LOCATION:Klub u Bazyla\, ul. Norwida 18A\, Poznań\, wielkopolskie\, 60-867\, Polska
CATEGORIES:Koncerty,zagraniczne
ATTACH;FMTTYPE=image/jpeg:https://deathmagnetic.pl/wp-content/uploads/2016/04/The-Moon-And-The-Nightspirit.jpg
ORGANIZER;CN="Left%20Hand%20Sounds":MAILTO:info@lefthandsounds.org
GEO:52.41666;16.9111489
X-APPLE-STRUCTURED-LOCATION;VALUE=URI;X-ADDRESS=Klub u Bazyla ul. Norwida 18A Poznań wielkopolskie 60-867 Polska;X-APPLE-RADIUS=500;X-TITLE=ul. Norwida 18A:geo:16.9111489,52.41666
END:VEVENT
END:VCALENDAR