BEGIN:VCALENDAR
VERSION:2.0
PRODID:-//Death Magnetic - ECPv5.10.1//NONSGML v1.0//EN
CALSCALE:GREGORIAN
METHOD:PUBLISH
X-WR-CALNAME:Death Magnetic
X-ORIGINAL-URL:https://deathmagnetic.pl
X-WR-CALDESC:Events for Death Magnetic
BEGIN:VTIMEZONE
TZID:Europe/Warsaw
BEGIN:DAYLIGHT
TZOFFSETFROM:+0100
TZOFFSETTO:+0200
TZNAME:CEST
DTSTART:20150329T010000
END:DAYLIGHT
BEGIN:STANDARD
TZOFFSETFROM:+0200
TZOFFSETTO:+0100
TZNAME:CET
DTSTART:20151025T010000
END:STANDARD
END:VTIMEZONE
BEGIN:VEVENT
DTSTART;TZID=Europe/Warsaw:20150617T190000
DTEND;TZID=Europe/Warsaw:20150617T230000
DTSTAMP:20260421T004609
CREATED:20150525T195422Z
LAST-MODIFIED:20150525T195422Z
UID:84403-1434567600-1434582000@deathmagnetic.pl
SUMMARY:The Gaslight Anthem + The Scandals
DESCRIPTION::Ceny biletów (w przedsprzedaży / w dniu koncertu): 80zł / 90zł \nWejście: 19:00\nKoniec: 23:00 \nBilety dostępne m. in. na eventim.pl i ticketpro.pl.
URL:https://deathmagnetic.pl/wydarzenie/the-gaslight-anthem-the-scandals/
LOCATION:Proxima\, ul. Żwirki i Wigury 99\, Warszawa\, Polska
ATTACH;FMTTYPE=image/jpeg:https://deathmagnetic.pl/wp-content/uploads/2015/05/the-gaslight-anthem.jpg
ORGANIZER;CN="Go%20Ahead":MAILTO:agencja@go-ahead.pl
GEO:52.212567;20.987187
X-APPLE-STRUCTURED-LOCATION;VALUE=URI;X-ADDRESS=Proxima ul. Żwirki i Wigury 99 Warszawa Polska;X-APPLE-RADIUS=500;X-TITLE=ul. Żwirki i Wigury 99:geo:20.987187,52.212567
END:VEVENT
END:VCALENDAR