BEGIN:VCALENDAR
VERSION:2.0
PRODID:-//Death Magnetic - ECPv5.10.1//NONSGML v1.0//EN
CALSCALE:GREGORIAN
METHOD:PUBLISH
X-WR-CALNAME:Death Magnetic
X-ORIGINAL-URL:https://deathmagnetic.pl
X-WR-CALDESC:Events for Death Magnetic
BEGIN:VTIMEZONE
TZID:Europe/Warsaw
BEGIN:DAYLIGHT
TZOFFSETFROM:+0100
TZOFFSETTO:+0200
TZNAME:CEST
DTSTART:20170326T010000
END:DAYLIGHT
BEGIN:STANDARD
TZOFFSETFROM:+0200
TZOFFSETTO:+0100
TZNAME:CET
DTSTART:20171029T010000
END:STANDARD
END:VTIMEZONE
BEGIN:VEVENT
DTSTART;TZID=Europe/Warsaw:20170212T190000
DTEND;TZID=Europe/Warsaw:20170212T220000
DTSTAMP:20260420T003800
CREATED:20160905T111557Z
LAST-MODIFIED:20161220T162843Z
UID:105068-1486926000-1486936800@deathmagnetic.pl
SUMMARY:The Dillinger Escape Plan + Shining
DESCRIPTION:Zespół:\nThe Dillinger Escape Plan \nBilety:\n99 zł w przedsprzedaży
URL:https://deathmagnetic.pl/wydarzenie/the-dillinger-escape-plan-2/
LOCATION:Klub Kwadrat\, Stanisława Skarżyńskiego 1\, Kraków\, 31 - 866\, Polska
CATEGORIES:Koncerty,Polskie
ATTACH;FMTTYPE=image/jpeg:https://deathmagnetic.pl/wp-content/uploads/2016/09/the-dillinger-escape-plan.jpg
ORGANIZER;CN="Live%20Nation":MAILTO:info@livenation.pl
GEO:50.083983;19.9961079
X-APPLE-STRUCTURED-LOCATION;VALUE=URI;X-ADDRESS=Klub Kwadrat Stanisława Skarżyńskiego 1 Kraków 31 - 866 Polska;X-APPLE-RADIUS=500;X-TITLE=Stanisława Skarżyńskiego 1:geo:19.9961079,50.083983
END:VEVENT
END:VCALENDAR