BEGIN:VCALENDAR
VERSION:2.0
PRODID:-//Death Magnetic - ECPv5.10.1//NONSGML v1.0//EN
CALSCALE:GREGORIAN
METHOD:PUBLISH
X-WR-CALNAME:Death Magnetic
X-ORIGINAL-URL:https://deathmagnetic.pl
X-WR-CALDESC:Events for Death Magnetic
BEGIN:VTIMEZONE
TZID:Europe/Warsaw
BEGIN:DAYLIGHT
TZOFFSETFROM:+0100
TZOFFSETTO:+0200
TZNAME:CEST
DTSTART:20160327T010000
END:DAYLIGHT
BEGIN:STANDARD
TZOFFSETFROM:+0200
TZOFFSETTO:+0100
TZNAME:CET
DTSTART:20161030T010000
END:STANDARD
END:VTIMEZONE
BEGIN:VEVENT
DTSTART;VALUE=DATE:20161020
DTEND;VALUE=DATE:20161021
DTSTAMP:20260421T074004
CREATED:20151123T110723Z
LAST-MODIFIED:20151123T110723Z
UID:94717-1476921600-1477007999@deathmagnetic.pl
SUMMARY:The Cure + The Twilight Sad
DESCRIPTION:Bilety w cenie 179 – 299 PLN na www.LiveNation.pl.
URL:https://deathmagnetic.pl/wydarzenie/the-cure-the-twilight-sad/
LOCATION:Atlas Arena\, al. Bandurskiego 7\, Łódź\, Polska
CATEGORIES:Koncerty,zagraniczne
ATTACH;FMTTYPE=image/jpeg:https://deathmagnetic.pl/wp-content/uploads/2015/11/thecure.jpg
ORGANIZER;CN="Live%20Nation":MAILTO:info@livenation.pl
GEO:51.7570376;19.4251408
X-APPLE-STRUCTURED-LOCATION;VALUE=URI;X-ADDRESS=Atlas Arena al. Bandurskiego 7 Łódź Polska;X-APPLE-RADIUS=500;X-TITLE=al. Bandurskiego 7:geo:19.4251408,51.7570376
END:VEVENT
END:VCALENDAR