BEGIN:VCALENDAR
VERSION:2.0
PRODID:-//Death Magnetic - ECPv5.10.1//NONSGML v1.0//EN
CALSCALE:GREGORIAN
METHOD:PUBLISH
X-WR-CALNAME:Death Magnetic
X-ORIGINAL-URL:https://deathmagnetic.pl
X-WR-CALDESC:Events for Death Magnetic
BEGIN:VTIMEZONE
TZID:Europe/Warsaw
BEGIN:DAYLIGHT
TZOFFSETFROM:+0100
TZOFFSETTO:+0200
TZNAME:CEST
DTSTART:20170326T010000
END:DAYLIGHT
BEGIN:STANDARD
TZOFFSETFROM:+0200
TZOFFSETTO:+0100
TZNAME:CET
DTSTART:20171029T010000
END:STANDARD
END:VTIMEZONE
BEGIN:VEVENT
DTSTART;TZID=Europe/Warsaw:20170518T190000
DTEND;TZID=Europe/Warsaw:20170518T230000
DTSTAMP:20260420T102415
CREATED:20170405T160616Z
LAST-MODIFIED:20170405T160617Z
UID:114375-1495134000-1495148400@deathmagnetic.pl
SUMMARY:The Best Pessimist + Set and Setting
DESCRIPTION:18 maja 2017 (czwartek) \nChmury (ul. 11 listopada 22)\nThe Best Pessimist\, Set and Setting \nBilety:\n25 PLN – Bilety24.pl – bit.ly/tbpwwa\n25 PLN – GoOut – bit.ly/2mJfAmr\n29 PLN – EMPIK i eBilet.pl – http://bit.ly/2nB9phR
URL:https://deathmagnetic.pl/wydarzenie/the-best-pessimist-set-and-setting/
LOCATION:Chmury\, 11 listopada 22\, Warszawa\, mazowieckie\, Polska
CATEGORIES:Koncerty,zagraniczne
ATTACH;FMTTYPE=image/jpeg:https://deathmagnetic.pl/wp-content/uploads/2017/04/plakat.jpg
GEO:52.259164;21.0363389
X-APPLE-STRUCTURED-LOCATION;VALUE=URI;X-ADDRESS=Chmury 11 listopada 22 Warszawa mazowieckie Polska;X-APPLE-RADIUS=500;X-TITLE=11 listopada 22:geo:21.0363389,52.259164
END:VEVENT
END:VCALENDAR