BEGIN:VCALENDAR
VERSION:2.0
PRODID:-//Death Magnetic - ECPv5.10.1//NONSGML v1.0//EN
CALSCALE:GREGORIAN
METHOD:PUBLISH
X-WR-CALNAME:Death Magnetic
X-ORIGINAL-URL:https://deathmagnetic.pl
X-WR-CALDESC:Events for Death Magnetic
BEGIN:VTIMEZONE
TZID:Europe/Warsaw
BEGIN:DAYLIGHT
TZOFFSETFROM:+0100
TZOFFSETTO:+0200
TZNAME:CEST
DTSTART:20150329T010000
END:DAYLIGHT
BEGIN:STANDARD
TZOFFSETFROM:+0200
TZOFFSETTO:+0100
TZNAME:CET
DTSTART:20151025T010000
END:STANDARD
END:VTIMEZONE
BEGIN:VEVENT
DTSTART;TZID=Europe/Warsaw:20150509T180000
DTEND;TZID=Europe/Warsaw:20150509T230000
DTSTAMP:20260421T130217
CREATED:20150223T195640Z
LAST-MODIFIED:20150225T151238Z
UID:73898-1431194400-1431212400@deathmagnetic.pl
SUMMARY:The Beauty Of Gemina + Spiral69
DESCRIPTION:Ceny biletów (przedsprzedaż / w dniu koncertu): \n79 zł / 90zł \nBilety dostępne na:\nEventim\, Ebilet i salonach sieci Empik.\nBilety kolekcjonerskie do zakupu na stronie Progresji. \nOtwarcie bram: 18:00\nStart: 19:30
URL:https://deathmagnetic.pl/wydarzenie/the-beauty-of-gemina-spiral69/
LOCATION:Progresja\, Fort Wola 22\, Warszawa\, Polska
CATEGORIES:Koncerty,zagraniczne
ATTACH;FMTTYPE=image/jpeg:https://deathmagnetic.pl/wp-content/uploads/2015/02/The-Beauty-Of-Gemina.jpg
GEO:52.224827;20.9287
X-APPLE-STRUCTURED-LOCATION;VALUE=URI;X-ADDRESS=Progresja Fort Wola 22 Warszawa Polska;X-APPLE-RADIUS=500;X-TITLE=Fort Wola 22:geo:20.9287,52.224827
END:VEVENT
END:VCALENDAR