BEGIN:VCALENDAR
VERSION:2.0
PRODID:-//Death Magnetic - ECPv5.10.1//NONSGML v1.0//EN
CALSCALE:GREGORIAN
METHOD:PUBLISH
X-WR-CALNAME:Death Magnetic
X-ORIGINAL-URL:https://deathmagnetic.pl
X-WR-CALDESC:Events for Death Magnetic
BEGIN:VTIMEZONE
TZID:Europe/Warsaw
BEGIN:DAYLIGHT
TZOFFSETFROM:+0100
TZOFFSETTO:+0200
TZNAME:CEST
DTSTART:20200329T010000
END:DAYLIGHT
BEGIN:STANDARD
TZOFFSETFROM:+0200
TZOFFSETTO:+0100
TZNAME:CET
DTSTART:20201025T010000
END:STANDARD
END:VTIMEZONE
BEGIN:VEVENT
DTSTART;TZID=Europe/Warsaw:20200225T200000
DTEND;TZID=Europe/Warsaw:20200225T200000
DTSTAMP:20260420T103751
CREATED:20190826T165217Z
LAST-MODIFIED:20190826T165217Z
UID:164101-1582660800-1582660800@deathmagnetic.pl
SUMMARY:The Australian Pink Floyd Show
DESCRIPTION:Rozpoczęcie koncertu: godz. 20.00\nOtwarcie bram: godz. 18.30 \n? Ceny biletów w przedsprzedaży:\n▪️Płyta I kat. (siedzące) – 195 PLN\n▪️Płyta II kat. (siedzące) – 165 PLN\n▪️Sektory I kat. – 195 PLN\n▪️Sektory II kat. – 185 PLN \n? Bilety do nabycia od 28 sierpnia na stronach:\n➡️ http://shop.metalmind.com.pl (KOLEKCJONERSKIE)\n➡️ www.eventim.pl\n➡️ www.ebilet.pl\n➡️ www.biletin.pl
URL:https://deathmagnetic.pl/wydarzenie/the-australian-pink-floyd-show-3/
LOCATION:Tauron Arena\, Stanisława Lema\, Kraków
CATEGORIES:Koncerty,zagraniczne
ATTACH;FMTTYPE=image/jpeg:https://deathmagnetic.pl/wp-content/uploads/2019/08/TAPFS_2020_posterB1.jpg
ORGANIZER;CN="Metal%20Mind%20Productions":MAILTO:office1@metalmind.com.pl
GEO:50.0687315;19.9879114
X-APPLE-STRUCTURED-LOCATION;VALUE=URI;X-ADDRESS=Tauron Arena Stanisława Lema Kraków;X-APPLE-RADIUS=500;X-TITLE=Stanisława Lema:geo:19.9879114,50.0687315
END:VEVENT
END:VCALENDAR