BEGIN:VCALENDAR
VERSION:2.0
PRODID:-//Death Magnetic - ECPv5.10.1//NONSGML v1.0//EN
CALSCALE:GREGORIAN
METHOD:PUBLISH
X-WR-CALNAME:Death Magnetic
X-ORIGINAL-URL:https://deathmagnetic.pl
X-WR-CALDESC:Events for Death Magnetic
BEGIN:VTIMEZONE
TZID:Europe/Warsaw
BEGIN:DAYLIGHT
TZOFFSETFROM:+0100
TZOFFSETTO:+0200
TZNAME:CEST
DTSTART:20160327T010000
END:DAYLIGHT
BEGIN:STANDARD
TZOFFSETFROM:+0200
TZOFFSETTO:+0100
TZNAME:CET
DTSTART:20161030T010000
END:STANDARD
END:VTIMEZONE
BEGIN:VEVENT
DTSTART;TZID=Europe/Warsaw:20161001T180000
DTEND;TZID=Europe/Warsaw:20161001T230000
DTSTAMP:20260420T012246
CREATED:20160923T094135Z
LAST-MODIFIED:20160923T094135Z
UID:105808-1475344800-1475362800@deathmagnetic.pl
SUMMARY:Thanks Jimi Symfonicznie – Leszek Cichoński i Przyjaciele
DESCRIPTION:BILETY / Narodowe Forum Muzyki\nVIP – 200* zł / 100 zł\nI kategoria – N 80 zł / U 60 zł\nII kategoria – N 60 zł / U 40 zł\nIII kategoria – N 40 zł / U 25zł\nVIP* – z zaproszeniem do VIP Room \nDostępne do kupienia TUTAJ.
URL:https://deathmagnetic.pl/wydarzenie/thanks-jimi-symfonicznie-leszek-cichonski-i-przyjaciele/
LOCATION:Narodowe Forum Muzyki\, Plac Wolności 1\, Wrocław\, dolnośląskie\, 50-071\, Polska
CATEGORIES:Koncerty,Polskie
ATTACH;FMTTYPE=image/jpeg:https://deathmagnetic.pl/wp-content/uploads/2016/09/14333567_1190001717705538_4714996632003216397_n.jpg
GEO:51.1067657;17.0279832
X-APPLE-STRUCTURED-LOCATION;VALUE=URI;X-ADDRESS=Narodowe Forum Muzyki Plac Wolności 1 Wrocław dolnośląskie 50-071 Polska;X-APPLE-RADIUS=500;X-TITLE=Plac Wolności 1:geo:17.0279832,51.1067657
END:VEVENT
END:VCALENDAR