BEGIN:VCALENDAR
VERSION:2.0
PRODID:-//Death Magnetic - ECPv5.10.1//NONSGML v1.0//EN
CALSCALE:GREGORIAN
METHOD:PUBLISH
X-WR-CALNAME:Death Magnetic
X-ORIGINAL-URL:https://deathmagnetic.pl
X-WR-CALDESC:Events for Death Magnetic
BEGIN:VTIMEZONE
TZID:Europe/Warsaw
BEGIN:DAYLIGHT
TZOFFSETFROM:+0100
TZOFFSETTO:+0200
TZNAME:CEST
DTSTART:20170326T010000
END:DAYLIGHT
BEGIN:STANDARD
TZOFFSETFROM:+0200
TZOFFSETTO:+0100
TZNAME:CET
DTSTART:20171029T010000
END:STANDARD
END:VTIMEZONE
BEGIN:VEVENT
DTSTART;TZID=Europe/Warsaw:20170422T190000
DTEND;TZID=Europe/Warsaw:20170422T235500
DTSTAMP:20260421T092142
CREATED:20170408T074828Z
LAST-MODIFIED:20170408T074828Z
UID:114440-1492887600-1492905300@deathmagnetic.pl
SUMMARY:Tester Gier + Minetaur + Wostok
DESCRIPTION:Bilety:\nPrzedsprzedaż / w dniu – 10 zł \nTester Gier – Śląski zespół powstały w 2012 roku na gruzach Świniopasa. Grają energiczny i bezkompromisowy thrash metal inspirowany punk rockiem i hardcorem. \nMinetaur – Jak sami określają\, grają death metal z naleciałościami południowoamerykańskiego groove. \nWostok – hardcore / crossover thrash
URL:https://deathmagnetic.pl/wydarzenie/tester-gier-minetaur-wostok/
LOCATION:Pub Kandeja\, ul. Cicha 2\, Lublin\, mazowieckie
CATEGORIES:Koncerty,Polskie
ATTACH;FMTTYPE=image/jpeg:https://deathmagnetic.pl/wp-content/uploads/2017/04/tester_gier_minetaur_promo.jpg
GEO:51.1479201;21.9655847
X-APPLE-STRUCTURED-LOCATION;VALUE=URI;X-ADDRESS=Pub Kandeja ul. Cicha 2 Lublin mazowieckie;X-APPLE-RADIUS=500;X-TITLE=ul. Cicha 2:geo:21.9655847,51.1479201
END:VEVENT
END:VCALENDAR