BEGIN:VCALENDAR
VERSION:2.0
PRODID:-//Death Magnetic - ECPv5.10.1//NONSGML v1.0//EN
CALSCALE:GREGORIAN
METHOD:PUBLISH
X-WR-CALNAME:Death Magnetic
X-ORIGINAL-URL:https://deathmagnetic.pl
X-WR-CALDESC:Events for Death Magnetic
BEGIN:VTIMEZONE
TZID:Europe/Warsaw
BEGIN:DAYLIGHT
TZOFFSETFROM:+0100
TZOFFSETTO:+0200
TZNAME:CEST
DTSTART:20150329T010000
END:DAYLIGHT
BEGIN:STANDARD
TZOFFSETFROM:+0200
TZOFFSETTO:+0100
TZNAME:CET
DTSTART:20151025T010000
END:STANDARD
END:VTIMEZONE
BEGIN:VEVENT
DTSTART;TZID=Europe/Warsaw:20150626T200000
DTEND;TZID=Europe/Warsaw:20150626T230000
DTSTAMP:20260420T213816
CREATED:20150504T160348Z
LAST-MODIFIED:20150504T160348Z
UID:82710-1435348800-1435359600@deathmagnetic.pl
SUMMARY:Terrordome + support
DESCRIPTION:Start: 20:00\nKoniec: 23:00
URL:https://deathmagnetic.pl/wydarzenie/terrordome-support/
LOCATION:Nienazwane Miejsce\, Nowy Targ
CATEGORIES:Koncerty,Polskie
ATTACH;FMTTYPE=image/jpeg:https://deathmagnetic.pl/wp-content/uploads/2015/05/terrordome5.jpg
GEO:49.4774647;20.032096
END:VEVENT
END:VCALENDAR