BEGIN:VCALENDAR
VERSION:2.0
PRODID:-//Death Magnetic - ECPv5.10.1//NONSGML v1.0//EN
CALSCALE:GREGORIAN
METHOD:PUBLISH
X-WR-CALNAME:Death Magnetic
X-ORIGINAL-URL:https://deathmagnetic.pl
X-WR-CALDESC:Events for Death Magnetic
BEGIN:VTIMEZONE
TZID:Europe/Warsaw
BEGIN:DAYLIGHT
TZOFFSETFROM:+0100
TZOFFSETTO:+0200
TZNAME:CEST
DTSTART:20160327T010000
END:DAYLIGHT
BEGIN:STANDARD
TZOFFSETFROM:+0200
TZOFFSETTO:+0100
TZNAME:CET
DTSTART:20161030T010000
END:STANDARD
END:VTIMEZONE
BEGIN:VEVENT
DTSTART;TZID=Europe/Warsaw:20161206T200000
DTEND;TZID=Europe/Warsaw:20161206T230000
DTSTAMP:20260420T221907
CREATED:20160817T132403Z
LAST-MODIFIED:20160817T132403Z
UID:104489-1481054400-1481065200@deathmagnetic.pl
SUMMARY:Tarja Turunen
DESCRIPTION:Ceny biletów:\n100 PLN – przedsprzedaż\n120 PLN – w dniu koncertu \nBilety dostępne na stronach: www.shop.metalmind.com.pl;www.ticketpro.pl\, www.eventim.pl\, www.ebilet.pl; www.biletin.pl oraz na warszawski koncert poprzez stronę internetową klubu Progresja
URL:https://deathmagnetic.pl/wydarzenie/tarja-turunen-2/
LOCATION:Stadion Wrocław\, aleja Śląska 1\, Wrocław\, 54-118\, Polska
CATEGORIES:Koncerty,zagraniczne
ATTACH;FMTTYPE=image/jpeg:https://deathmagnetic.pl/wp-content/uploads/2016/08/tarja-prog.jpg
ORGANIZER;CN="Metal%20Mind%20Productions":MAILTO:office1@metalmind.com.pl
GEO:51.139726;16.94393
X-APPLE-STRUCTURED-LOCATION;VALUE=URI;X-ADDRESS=Stadion Wrocław aleja Śląska 1 Wrocław 54-118 Polska;X-APPLE-RADIUS=500;X-TITLE=aleja Śląska 1:geo:16.94393,51.139726
END:VEVENT
END:VCALENDAR