BEGIN:VCALENDAR
VERSION:2.0
PRODID:-//Death Magnetic - ECPv5.10.1//NONSGML v1.0//EN
CALSCALE:GREGORIAN
METHOD:PUBLISH
X-WR-CALNAME:Death Magnetic
X-ORIGINAL-URL:https://deathmagnetic.pl
X-WR-CALDESC:Events for Death Magnetic
BEGIN:VTIMEZONE
TZID:Europe/Warsaw
BEGIN:DAYLIGHT
TZOFFSETFROM:+0100
TZOFFSETTO:+0200
TZNAME:CEST
DTSTART:20150329T010000
END:DAYLIGHT
BEGIN:STANDARD
TZOFFSETFROM:+0200
TZOFFSETTO:+0100
TZNAME:CET
DTSTART:20151025T010000
END:STANDARD
END:VTIMEZONE
BEGIN:VEVENT
DTSTART;TZID=Europe/Warsaw:20151214T190000
DTEND;TZID=Europe/Warsaw:20151214T230000
DTSTAMP:20260420T153100
CREATED:20151020T175010Z
LAST-MODIFIED:20151020T175010Z
UID:93569-1450119600-1450134000@deathmagnetic.pl
SUMMARY:Swallow the Sun + Wolfheart + Lacrima
DESCRIPTION:  \nBilety:\n60zł (przedsprzedaż) / 70 zł (w dniu koncertu)\nDostępne w:\n– sieci Ticketpro.pl\n– kolekcjonerskie (w kasie Rotundy oraz w Metalshopie na ul. Długiej 17) \n 
URL:https://deathmagnetic.pl/wydarzenie/swallow-the-sun-wolfheart-lacrima/
LOCATION:Rotunda Centrum Kultury\, Oleandry 1\, Kraków\, Polska
CATEGORIES:Koncerty,zagraniczne
ATTACH;FMTTYPE=image/jpeg:https://deathmagnetic.pl/wp-content/uploads/2015/10/swallow_the_sun_wolfheart_lacrima.jpg
GEO:50.0599625;19.9209144
X-APPLE-STRUCTURED-LOCATION;VALUE=URI;X-ADDRESS=Rotunda Centrum Kultury Oleandry 1 Kraków Polska;X-APPLE-RADIUS=500;X-TITLE=Oleandry 1:geo:19.9209144,50.0599625
END:VEVENT
END:VCALENDAR