BEGIN:VCALENDAR
VERSION:2.0
PRODID:-//Death Magnetic - ECPv5.10.1//NONSGML v1.0//EN
CALSCALE:GREGORIAN
METHOD:PUBLISH
X-WR-CALNAME:Death Magnetic
X-ORIGINAL-URL:https://deathmagnetic.pl
X-WR-CALDESC:Events for Death Magnetic
BEGIN:VTIMEZONE
TZID:Europe/Warsaw
BEGIN:DAYLIGHT
TZOFFSETFROM:+0100
TZOFFSETTO:+0200
TZNAME:CEST
DTSTART:20160327T010000
END:DAYLIGHT
BEGIN:STANDARD
TZOFFSETFROM:+0200
TZOFFSETTO:+0100
TZNAME:CET
DTSTART:20161030T010000
END:STANDARD
END:VTIMEZONE
BEGIN:VEVENT
DTSTART;VALUE=DATE:20160909
DTEND;VALUE=DATE:20160911
DTSTAMP:20260420T133630
CREATED:20160331T195025Z
LAST-MODIFIED:20160704T152057Z
UID:98744-1473379200-1473551999@deathmagnetic.pl
SUMMARY:Summer Dying Loud vol. 8
DESCRIPTION:Lineup 2016: \nPiątek:\n– Sweet Noise\n– Closterkeller\n– KSU\n– Jinjer\n– Vidian\n– Tuff Enuff\n– Tester Gier \nSobota:\n– Grave\n– Sinister\n– Bombers\n– Antigama\n– Mord’a’Stigmata\n– Sunnata\n– Thermit\n– Sun Dance\n– Nonamen
URL:https://deathmagnetic.pl/wydarzenie/summer-dying-loud-vol-8/
LOCATION:Mosir im. Włodzimierza Smolarka\, 11 Listopada 98\, 95-070 Aleksandrów Łódzki\, Polska
CATEGORIES:Festiwale,Polskie
ATTACH;FMTTYPE=image/jpeg:https://deathmagnetic.pl/wp-content/uploads/2016/07/summer_Dying_loud_2016.jpg
GEO:51.8097918;19.2986379
X-APPLE-STRUCTURED-LOCATION;VALUE=URI;X-ADDRESS=Mosir im. Włodzimierza Smolarka 11 Listopada 98 95-070 Aleksandrów Łódzki Polska;X-APPLE-RADIUS=500;X-TITLE=11 Listopada 98:geo:19.2986379,51.8097918
END:VEVENT
END:VCALENDAR