BEGIN:VCALENDAR
VERSION:2.0
PRODID:-//Death Magnetic - ECPv5.10.1//NONSGML v1.0//EN
CALSCALE:GREGORIAN
METHOD:PUBLISH
X-WR-CALNAME:Death Magnetic
X-ORIGINAL-URL:https://deathmagnetic.pl
X-WR-CALDESC:Events for Death Magnetic
BEGIN:VTIMEZONE
TZID:Europe/Warsaw
BEGIN:DAYLIGHT
TZOFFSETFROM:+0100
TZOFFSETTO:+0200
TZNAME:CEST
DTSTART:20150329T010000
END:DAYLIGHT
BEGIN:STANDARD
TZOFFSETFROM:+0200
TZOFFSETTO:+0100
TZNAME:CET
DTSTART:20151025T010000
END:STANDARD
END:VTIMEZONE
BEGIN:VEVENT
DTSTART;TZID=Europe/Warsaw:20150911T130000
DTEND;TZID=Europe/Warsaw:20150912T235500
DTSTAMP:20260419T140728
CREATED:20150524T075436Z
LAST-MODIFIED:20150819T101635Z
UID:84362-1441976400-1442102100@deathmagnetic.pl
SUMMARY:Summer Dying Loud VII
DESCRIPTION:LINEUP 2015: \n11 września (piątek) \nWejście 14.30 \n\n15.00 – Otwieracz I\n16.00 – Overhood\n17.00 – Death Denied\n18.15 – Tides From Nebula\n19.45 – Proletaryat\n21.00 – SIQ\n21.45 – Acid Drinkers\n23.30 – Pandemonium \n00.45 – Kino plenerowe\, film “Lemmy” \n12 września (sobota) \nWejście 12.30 \n13.00 – Otwieracz II\n14.00 – Bitchcraft\n15.00 – Minetaur \n16.15 – Terrordome\n17.30 – Totem \n19.00 – Moskwa\n20.30 – Frontside\n22.00 – Vader\n23.45 – Obscure Sphinx
URL:https://deathmagnetic.pl/wydarzenie/summer-dying-loud-vii/
LOCATION:Mosir im. Włodzimierza Smolarka\, 11 Listopada 98\, 95-070 Aleksandrów Łódzki\, Polska
CATEGORIES:Festiwale
ATTACH;FMTTYPE=image/jpeg:https://deathmagnetic.pl/wp-content/uploads/2015/08/summer_dying_loud_2015_plakat.jpg
GEO:51.8097918;19.2986379
X-APPLE-STRUCTURED-LOCATION;VALUE=URI;X-ADDRESS=Mosir im. Włodzimierza Smolarka 11 Listopada 98 95-070 Aleksandrów Łódzki Polska;X-APPLE-RADIUS=500;X-TITLE=11 Listopada 98:geo:19.2986379,51.8097918
END:VEVENT
END:VCALENDAR